BEGIN:VCALENDAR
VERSION:2.0
PRODID:gruene-oder-spree.de
METHOD:PUBLISH
BEGIN:VTIMEZONE
TZID:Europe/Berlin
X-LIC-LOCATION:Europe/Berlin
BEGIN:DAYLIGHT
TZOFFSETFROM:+0100
TZOFFSETTO:+0200
TZNAME:CEST
DTSTART:19700329T020000
RRULE:FREQ=YEARLY;INTERVAL=1;BYDAY=-1SU;BYMONTH=3
END:DAYLIGHT
BEGIN:STANDARD
TZOFFSETFROM:+0200
TZOFFSETTO:+0100
TZNAME:CET
DTSTART:19701025T030000
RRULE:FREQ=YEARLY;INTERVAL=1;BYDAY=-1SU;BYMONTH=10
END:STANDARD
END:VTIMEZONE
BEGIN:VEVENT
UID:26232070a92bd877dde31f89d16be49a@gruene-oder-spree.de
URL;VALUE=URI:https://gruene-oder-spree.de/termine/6169/
LOCATION:Kulturgießerei, An der Reihe 5, 15566 Schöneiche
SUMMARY:Buchvorstellung und Diskussion mit CORRECTIV-Reporter Marcus Ben
 smann
DESCRIPTION;ALTREP="data:text/html,%0A%3Cp%3E%3Cstrong%3EDas%20Sch%C3%B6n
 eicher%20B%C3%BCndnis%20f%C3%BCr%20Demokratie%20und%20Toleranz%20l%C3%A4d
 t%20am%26nbsp%3B%3C%2Fstrong%3E%3Cstrong%3E8.11.2024%20um%2019%20Uhr%20in
 %20die%20Kulturgie%C3%9Ferei%3C%2Fstrong%3E%3Cstrong%3E%2C%20An%20der%20R
 eihe%205%2C%2015566%20Sch%C3%B6neiche%20zu%3C%2Fstrong%3E%3Cstrong%3E%26n
 bsp%3BBuchvorstellung%20und%20Diskussion%20ein%3A%26nbsp%3B%3C%2Fstrong%3
 ECORRECTIV-Reporter%26nbsp%3B%3Cstrong%3EMarcus%20Bensmann%3C%2Fstrong%3E
 %26nbsp%3Bund%20das%26nbsp%3B%3Cstrong%3ECORRECTIV%3C%2Fstrong%3E%26nbsp%
 3Bhaben%20die%20AFD%20viele%20Jahre%20investigativ%20unter%20die%20Lupe%2
 0genommen%2C%20nun%20haben%20sie%20ihre%20Arbeit%20und%20die%20Recherchen
 %20anderer%20Medien%20in%20einem%20Buch%20zu%20einem%20Bild%20zusammengef
 %C3%BCgt%2C%20das%20die%20ganze%20Dimension%20der%20ungeheuerlichen%20Pl%
 C3%A4ne%20der%20AfD%20offenlegt%3A%26nbsp%3B%3Cstrong%3E%E2%80%9ENiemand%
 20kann%20sagen%2C%20er%20h%C3%A4tte%20es%20nicht%20gewusst.%20Die%20ungeh
 euerlichen%20Pl%C3%A4ne%20der%20AfD%E2%80%9C%3C%2Fstrong%3E.%3C%2Fp%3E%0A
 %0A%0A%0A%3Cp%3EModeriert%20wird%20der%20Abend%20von%20Dietmar%20Schumann
 %2C%20finanziell%20unterst%C3%BCtzt%20von%20der%20Heinrich%20B%C3%B6ll%20
 Stiftung%20Brandenburg%20und%20der%20Gemeinde%20Sch%C3%B6neiche%20%E2%80%
 93%20der%20Eintritt%20ist%20frei%3C%2Fp%3E%0A%0A%0A%0A%3Cp%3E%3C%2Fp%3E%0
 A":Das Schöneicher Bündnis für Demokratie und Toleranz lädt am 8.11.
 2024 um 19 Uhr in die Kulturgießerei\, An der Reihe 5\, 15566 Schöneich
 e zu Buchvorstellung und Diskussion ein: CORRECTIV-Reporter Marcus Ben
 smann und das CORRECTIV haben die AFD viele Jahre investigativ unter d
 ie Lupe genommen\, nun haben sie ihre Arbeit und die Recherchen anderer M
 edien in einem Buch zu einem Bild zusammengefügt\, das die ganze Dimensi
 on der ungeheuerlichen Pläne der AfD offenlegt: „Niemand kann sagen\,
  er hätte es nicht gewusst. Die ungeheuerlichen Pläne der AfD“.\n\nMo
 deriert wird der Abend von Dietmar Schumann\, finanziell unterstützt von
  der Heinrich Böll Stiftung Brandenburg und der Gemeinde Schöneiche –
  der Eintritt ist frei
CLASS:PUBLIC
DTSTART;TZID=Europe/Berlin:20241108T190000
DTEND;TZID=Europe/Berlin:20241108T200000
DTSTAMP:20260422T222905
END:VEVENT
END:VCALENDAR