BEGIN:VCALENDAR
VERSION:2.0
PRODID:gruene-oder-spree.de
METHOD:PUBLISH
BEGIN:VTIMEZONE
TZID:Europe/Berlin
X-LIC-LOCATION:Europe/Berlin
BEGIN:DAYLIGHT
TZOFFSETFROM:+0100
TZOFFSETTO:+0200
TZNAME:CEST
DTSTART:19700329T020000
RRULE:FREQ=YEARLY;INTERVAL=1;BYDAY=-1SU;BYMONTH=3
END:DAYLIGHT
BEGIN:STANDARD
TZOFFSETFROM:+0200
TZOFFSETTO:+0100
TZNAME:CET
DTSTART:19701025T030000
RRULE:FREQ=YEARLY;INTERVAL=1;BYDAY=-1SU;BYMONTH=10
END:STANDARD
END:VTIMEZONE
BEGIN:VEVENT
UID:ce79916620a709299eeec861bcd4bfa7@gruene-oder-spree.de
URL;VALUE=URI:https://gruene-oder-spree.de/termine/ausstellungseroeffnung
 -when-we-woke-up-it-was-war/
LOCATION:Kreisgeschäftsstelle BÜNDNIS 90/DE GRÜNEN Oder-Spree, Mühlen
 str. 5d, 15517 Fürstenwalde/Spree
SUMMARY:Ausstellungseröffnung WHEN WE WOKE UP, IT WAS WAR!
DESCRIPTION;ALTREP="data:text/html,%0A%3Cp%3EWir%20freuen%20uns%20ganz%20
 au%C3%9Ferordentlich%2C%20Euch%20am%2024.%20Oktober%20um%2018%3A00%20Uhr%
 20zur%20Er%C3%B6ffnung%20der%20Ausstellung%20%3Ca%20href%3D%22https%3A%2F
 %2Fwww.whenwewokeupitwaswar.de%2F%22%3EWHEN%20WE%20WOKE%20UP%2C%20IT%20WA
 S%20WAR%21%3C%2Fa%3E%20begr%C3%BC%C3%9Fen%20zu%20k%C3%B6nnen%21%3C%2Fp%3E
 %0A%0A%0A%0A%3Cp%3EEinf%C3%BChlsam%20dokumentieren%20Kira%20Perepelytsia%
 2C%20die%20selber%20aus%20der%20Ukraine%20gefl%C3%BCchtet%20ist%2C%20und%
 20der%20Fotograf%20Konstantin%20B%C3%B6rner%20auf%20gro%C3%9Fformatigen%2
 0Tafeln%20Ausschnitte%20aus%20dem%20Leben%20ukrainischer%20Frauen%2C%20di
 e%20nach%20dem%20%C3%9Cberfall%20Russlands%20auf%20die%20Ukraine%20ihre%2
 0Heimat%20verlassen%20mussten.%3C%2Fp%3E%0A%0A%0A%0A%3Cp%3E%E2%80%9EViele
 %20von%20ihnen%20standen%20vor%20der%20Herausforderung%2C%20ihr%20Leben%2
 0von%20Grund%20auf%20neu%20aufzubauen%20%E2%80%93%20mit%20kaum%20mehr%20a
 ls%20dem%2C%20was%20in%20einen%20Rucksack%20oder%20einen%20kleinen%20Koff
 er%20passte.%20In%20einem%20fremden%20Land%2C%20mit%20einer%20unbekannten
 %20Sprache%20und%20ungewohnten%20Gesetzen%2C%20die%20Erfahrungen%20ihres%
 20bisherigen%20Lebens%20verloren%20oft%20an%20Bedeutung.%20Selbst%20die%2
 0einfachsten%20allt%C3%A4glichen%20Dinge%20wurden%20durch%20die%20Sprachb
 arriere%20kompliziert.%E2%80%9C%3C%2Fp%3E%0A%0A%0A%0A%3Cp%3EKira%20und%20
 Konstantin%20m%C3%B6chten%20mit%20diesem%20Projekt%20die%20Auswirkungen%2
 0des%20Krieges%20zeigen%20und%20den%20betroffenen%20Menschen%20ein%20Gesi
 cht%20%28eine%20Stimme%29%20geben%20und%20anhand%20von%20Fragen%20durch%2
 0die%20Ausstellung%20leiten%3A%3C%2Fp%3E%0A%0A%0A%0A%3Cp%3E%E2%80%9E%20We
 r%20sind%20die%20Menschen%2C%20denen%20wir%20t%C3%A4glich%20begegnen%3F%2
 0Wie%20gehen%20Frauen%20mit%20dieser%20Extremsituation%20um%3F%20Was%20ha
 ben%20sie%20erlebt%2C%20was%20treibt%20sie%20an%3F%20Woher%20nehmen%20sie
 %20die%20Kraft%20f%C3%BCr%20den%20n%C3%A4chsten%20Schritt%2C%20und%20welc
 he%20Wege%20w%C3%A4hlen%20sie%2C%20um%20ein%20neues%20Leben%20in%20einer%
 20fremden%20Gesellschaft%20aufzubauen%3F%E2%80%9C%3C%2Fp%3E%0A%0A%0A%0A%3
 Cp%3EInfos%20zum%20Rahmenprogramm%20findet%20Ihr%20rechtzeitig%20auf%20un
 serer%20Webseite%21%3C%2Fp%3E%0A%0A%0A%0A%3Cp%3EUm%20Anmeldung%20bis%20zu
 m%2020.Oktober%20wird%20gebeten%21%3C%2Fp%3E%0A%0A%0A%0A%3Ch2%20class%3D%
 22wp-block-heading%22%3EHier%20anmelden%3A%3C%2Fh2%3E%0A%0A%0A%3Cdiv%20cl
 ass%3D%22frm_forms%20%20with_frm_style%20frm_style_formidable-style%22%20
 id%3D%22frm_form_7_container%22%20data-token%3D%22c1c985c98cb8f94e811a6c8
 8b2c04a71%22%3E%0A%3Cform%20method%3D%22post%22%20class%3D%22frm-show-for
 m%20%22%20id%3D%22form_contact-us%22%3E%0A%3Cdiv%20class%3D%22frm_form_fi
 elds%20%22%3E%0A%3Cfieldset%3E%0A%3Clegend%20class%3D%22frm_screen_reader
 %22%3EAnmeldung%20Ausstellungser%C3%B6ffnung%20WHEN%20WE%20WOKE%20UP%2C%2
 0IT%20WAS%20WAR%21%3C%2Flegend%3E%0D%0A%0D%0A%3Cdiv%20class%3D%22frm_fiel
 ds_container%22%3E%0A%3Cinput%20type%3D%22hidden%22%20name%3D%22frm_actio
 n%22%20value%3D%22create%22%20%2F%3E%0A%3Cinput%20type%3D%22hidden%22%20n
 ame%3D%22form_id%22%20value%3D%227%22%20%2F%3E%0A%3Cinput%20type%3D%22hid
 den%22%20name%3D%22frm_hide_fields_7%22%20id%3D%22frm_hide_fields_7%22%20
 value%3D%22%22%20%2F%3E%0A%3Cinput%20type%3D%22hidden%22%20name%3D%22form
 _key%22%20value%3D%22contact-us%22%20%2F%3E%0A%3Cinput%20type%3D%22hidden
 %22%20name%3D%22item_meta%5B0%5D%22%20value%3D%22%22%20%2F%3E%0A%3Cinput%
 20type%3D%22hidden%22%20id%3D%22frm_submit_entry_7%22%20name%3D%22frm_sub
 mit_entry_7%22%20value%3D%221706683a29%22%20%2F%3E%3Cinput%20type%3D%22hi
 dden%22%20name%3D%22_wp_http_referer%22%20value%3D%22%2F%3Fformat%3Dics%2
 6%23038%3Bsunflower_event%3Dausstellungseroeffnung-when-we-woke-up-it-was
 -war%26%23038%3Bsunflower_nonce%3D524df95a2a%22%20%2F%3E%3Cdiv%20id%3D%22
 frm_field_46_container%22%20class%3D%22frm_form_field%20form-field%20%20f
 rm_required_field%20frm_top_container%20frm_first%20frm_half%22%3E%0D%0A%
 20%20%20%20%3Clabel%20for%3D%22field_qh4icy22%22%20class%3D%22frm_primary
 _label%22%3EVorname%0D%0A%20%20%20%20%20%20%20%20%3Cspan%20class%3D%22frm
 _required%22%3E%2A%3C%2Fspan%3E%0D%0A%20%20%20%20%3C%2Flabel%3E%0D%0A%20%
 20%20%20%3Cinput%20type%3D%22text%22%20id%3D%22field_qh4icy22%22%20name%3
 D%22item_meta%5B46%5D%22%20value%3D%22%22%20%2F%3E%0D%0A%20%20%20%20%3Cdi
 v%20class%3D%22frm_description%22%20id%3D%22frm_desc_field_qh4icy22%22%3E
 First%3C%2Fdiv%3E%0D%0A%20%20%20%20%0D%0A%3C%2Fdiv%3E%0A%3Cdiv%20id%3D%22
 frm_field_47_container%22%20class%3D%22frm_form_field%20form-field%20%20f
 rm_required_field%20frm_hidden_container%20frm_half%22%3E%0D%0A%20%20%20%
 20%3Clabel%20for%3D%22field_ocfup122%22%20class%3D%22frm_primary_label%22
 %3ENachname%0D%0A%20%20%20%20%20%20%20%20%3Cspan%20class%3D%22frm_require
 d%22%3E%2A%3C%2Fspan%3E%0D%0A%20%20%20%20%3C%2Flabel%3E%0D%0A%20%20%20%20
 %3Cinput%20type%3D%22text%22%20id%3D%22field_ocfup122%22%20name%3D%22item
 _meta%5B47%5D%22%20value%3D%22%22%20%2F%3E%0D%0A%20%20%20%20%3Cdiv%20clas
 s%3D%22frm_description%22%20id%3D%22frm_desc_field_ocfup122%22%3ELast%3C%
 2Fdiv%3E%0D%0A%20%20%20%20%0D%0A%3C%2Fdiv%3E%0A%3Cdiv%20id%3D%22frm_field
 _48_container%22%20class%3D%22frm_form_field%20form-field%20%20frm_requir
 ed_field%20frm_top_container%20frm_full%22%3E%0D%0A%20%20%20%20%3Clabel%2
 0for%3D%22field_29yf4d22%22%20class%3D%22frm_primary_label%22%3EE-Mail-Ad
 resse%0D%0A%20%20%20%20%20%20%20%20%3Cspan%20class%3D%22frm_required%22%3
 E%2A%3C%2Fspan%3E%0D%0A%20%20%20%20%3C%2Flabel%3E%0D%0A%20%20%20%20%3Cinp
 ut%20type%3D%22email%22%20id%3D%22field_29yf4d22%22%20name%3D%22item_meta
 %5B48%5D%22%20value%3D%22%22%20%2F%3E%0D%0A%20%20%20%20%0D%0A%20%20%20%20
 %0D%0A%3C%2Fdiv%3E%0A%3Cdiv%20id%3D%22frm_field_49_container%22%20class%3
 D%22frm_form_field%20form-field%20%20frm_top_container%20frm_full%22%3E%0
 D%0A%20%20%20%20%3Clabel%20for%3D%22field_e6lis622%22%20class%3D%22frm_pr
 imary_label%22%3EAnzahl%20der%20Personen%2C%20mit%20denen%20ich%20teilneh
 me%0D%0A%20%20%20%20%20%20%20%20%3Cspan%20class%3D%22frm_required%22%3E%3
 C%2Fspan%3E%0D%0A%20%20%20%20%3C%2Flabel%3E%0D%0A%20%20%20%20%3Cinput%20t
 ype%3D%22text%22%20id%3D%22field_e6lis622%22%20name%3D%22item_meta%5B49%5
 D%22%20value%3D%22%22%20%2F%3E%0D%0A%20%20%20%20%0D%0A%20%20%20%20%0D%0A%
 3C%2Fdiv%3E%0A%3Cdiv%20id%3D%22frm_field_50_container%22%20class%3D%22frm
 _form_field%20form-field%20%20frm_required_field%20frm_top_container%20fr
 m_full%22%3E%0D%0A%20%20%20%20%3Clabel%20for%3D%22field_9jv0r122%22%20cla
 ss%3D%22frm_primary_label%22%3EAnmerkungen%20oder%20Fragen%20an%20uns%0D%
 0A%20%20%20%20%20%20%20%20%3Cspan%20class%3D%22frm_required%22%3E%2A%3C%2
 Fspan%3E%0D%0A%20%20%20%20%3C%2Flabel%3E%0D%0A%20%20%20%20%3Ctextarea%20n
 ame%3D%22item_meta%5B50%5D%22%20id%3D%22field_9jv0r122%22%20rows%3D%225%2
 2%3E%3C%2Ftextarea%3E%0D%0A%20%20%20%20%0D%0A%20%20%20%20%0D%0A%3C%2Fdiv%
 3E%0A%3Cdiv%20id%3D%22frm_field_51_container%22%20class%3D%22frm_form_fie
 ld%20form-field%20%22%3E%0D%0A%09%3Cdiv%20class%3D%22frm_submit%22%3E%0D%
 0A%0D%0A%3Cbutton%20class%3D%22frm_button_submit%22%20type%3D%22submit%22
 %3EAbsenden%3C%2Fbutton%3E%0D%0A%0D%0A%3C%2Fdiv%3E%0D%0A%3C%2Fdiv%3E%0A%0
 9%3Cinput%20type%3D%22hidden%22%20name%3D%22item_key%22%20value%3D%22%22%
 20%2F%3E%0A%09%09%09%3Cdiv%20id%3D%22frm_field_60_container%22%3E%0A%09%0
 9%09%3Clabel%20for%3D%22field_jw3l7%22%3E%0A%09%09%09%09Falls%20Du%20mens
 chlich%20bist%2C%20lasse%20dieses%20Feld%20leer.%09%09%09%3C%2Flabel%3E%0
 A%09%09%09%3Cinput%20id%3D%22field_jw3l7%22%20type%3D%22text%22%20class%3
 D%22frm_form_field%20form-field%20frm_verify%22%20name%3D%22item_meta%5B6
 0%5D%22%20value%3D%22%22%20%2F%3E%0A%09%09%3C%2Fdiv%3E%0A%09%09%3Cinput%2
 0name%3D%22frm_state%22%20type%3D%22hidden%22%20value%3D%223wyne2vWGJT0V4
 wzedIGQ5kKM478G9y5ABbU%2BRWyOFU%3D%22%20%2F%3E%3C%2Fdiv%3E%0A%3C%2Ffields
 et%3E%0A%3C%2Fdiv%3E%0A%0A%3C%2Fform%3E%0A%3C%2Fdiv%3E%0A":Wir freuen uns
  ganz außerordentlich\, Euch am 24. Oktober um 18:00 Uhr zur Eröffnung 
 der Ausstellung WHEN WE WOKE UP\, IT WAS WAR! begrüßen zu können!\n\nE
 infühlsam dokumentieren Kira Perepelytsia\, die selber aus der Ukraine g
 eflüchtet ist\, und der Fotograf Konstantin Börner auf großformatigen 
 Tafeln Ausschnitte aus dem Leben ukrainischer Frauen\, die nach dem Über
 fall Russlands auf die Ukraine ihre Heimat verlassen mussten.\n\n„Viele
  von ihnen standen vor der Herausforderung\, ihr Leben von Grund auf neu 
 aufzubauen – mit kaum mehr als dem\, was in einen Rucksack oder einen k
 leinen Koffer passte. In einem fremden Land\, mit einer unbekannten Sprac
 he und ungewohnten Gesetzen\, die Erfahrungen ihres bisherigen Lebens ver
 loren oft an Bedeutung. Selbst die einfachsten alltäglichen Dinge wurden
  durch die Sprachbarriere kompliziert.“\n\nKira und Konstantin möchten
  mit diesem Projekt die Auswirkungen des Krieges zeigen und den betroffen
 en Menschen ein Gesicht (eine Stimme) geben und anhand von Fragen durch d
 ie Ausstellung leiten:\n\n„ Wer sind die Menschen\, denen wir täglich 
 begegnen? Wie gehen Frauen mit dieser Extremsituation um? Was haben sie e
 rlebt\, was treibt sie an? Woher nehmen sie die Kraft für den nächsten 
 Schritt\, und welche Wege wählen sie\, um ein neues Leben in einer fremd
 en Gesellschaft aufzubauen?“\n\nInfos zum Rahmenprogramm findet Ihr rec
 htzeitig auf unserer Webseite!\n\nUm Anmeldung bis zum 20.Oktober wird ge
 beten!\n\nHier anmelden:\n\nAnmeldung Ausstellungseröffnung WHEN WE WOKE
  UP\, IT WAS WAR!\n\n    Vorname\n\n        *\n\n    First\n\n    Nachnam
 e\n\n        *\n\n    Last\n\n    E-Mail-Adresse\n\n        *\n\n    Anza
 hl der Personen\, mit denen ich teilnehme\n\n    Anmerkungen oder Fragen 
 an uns\n\n        *\n\nAbsenden\n\n				Falls Du menschlich bist\, lasse d
 ieses Feld leer.
CLASS:PUBLIC
DTSTART;TZID=Europe/Berlin:20251024T180000
DTEND;TZID=Europe/Berlin:20251024T190000
DTSTAMP:20260422T230334
END:VEVENT
END:VCALENDAR