BEGIN:VCALENDAR
VERSION:2.0
PRODID:gruene-oder-spree.de
METHOD:PUBLISH
BEGIN:VTIMEZONE
TZID:Europe/Berlin
X-LIC-LOCATION:Europe/Berlin
BEGIN:DAYLIGHT
TZOFFSETFROM:+0100
TZOFFSETTO:+0200
TZNAME:CEST
DTSTART:19700329T020000
RRULE:FREQ=YEARLY;INTERVAL=1;BYDAY=-1SU;BYMONTH=3
END:DAYLIGHT
BEGIN:STANDARD
TZOFFSETFROM:+0200
TZOFFSETTO:+0100
TZNAME:CET
DTSTART:19701025T030000
RRULE:FREQ=YEARLY;INTERVAL=1;BYDAY=-1SU;BYMONTH=10
END:STANDARD
END:VTIMEZONE
BEGIN:VEVENT
UID:2515f207dde73f7fea4f85333106961b@gruene-oder-spree.de
URL;VALUE=URI:https://gruene-oder-spree.de/termine/bundesdelegiertenkonfe
 renz-in-wiesbaden/
LOCATION:CongressCenter, Friedrich-Ebert-Allee 1, 65185 Wiesbaden
SUMMARY:Bundesdelegiertenkonferenz in Wiesbaden
DESCRIPTION;ALTREP="data:text/html,%0A%3Cp%3EDie%20Bundesdelegiertenkonfe
 renz%20wird%20am%26nbsp%3B%3Cstrong%3EFreitag%2C%20den%2015.%20November%2
 C%20um%2016%3A30%20Uhr%3C%2Fstrong%3E%26nbsp%3Bbeginnen.%20Das%20Ende%20i
 st%20f%C3%BCr%26nbsp%3B%3Cstrong%3ESonntag%2C%20den%2017.%20November%2C%2
 0ca.%2014%3A00%20Uhr%3C%2Fstrong%3E%26nbsp%3Bgeplant.%20Veranstaltungsort
 %20wird%20das%26nbsp%3B%3Cstrong%3ERheinMain%20CongressCenter%2C%20Friedr
 ich-Ebert-Allee%201%2C%2065185%20Wiesbaden%3C%2Fstrong%3E%26nbsp%3Bsein.%
 3C%2Fp%3E%0A%0A%0A%0A%3Cp%3E%3C%2Fp%3E%0A":Die Bundesdelegiertenkonferenz
  wird am Freitag\, den 15. November\, um 16:30 Uhr beginnen. Das Ende i
 st für Sonntag\, den 17. November\, ca. 14:00 Uhr geplant. Veranstaltu
 ngsort wird das RheinMain CongressCenter\, Friedrich-Ebert-Allee 1\, 651
 85 Wiesbaden sein.
CLASS:PUBLIC
DTSTART;TZID=Europe/Berlin:20241115T163000
DTEND;TZID=Europe/Berlin:20241117T140000
DTSTAMP:20260422T223918
END:VEVENT
END:VCALENDAR