BEGIN:VCALENDAR
VERSION:2.0
PRODID:gruene-oder-spree.de
METHOD:PUBLISH
BEGIN:VTIMEZONE
TZID:Europe/Berlin
X-LIC-LOCATION:Europe/Berlin
BEGIN:DAYLIGHT
TZOFFSETFROM:+0100
TZOFFSETTO:+0200
TZNAME:CEST
DTSTART:19700329T020000
RRULE:FREQ=YEARLY;INTERVAL=1;BYDAY=-1SU;BYMONTH=3
END:DAYLIGHT
BEGIN:STANDARD
TZOFFSETFROM:+0200
TZOFFSETTO:+0100
TZNAME:CET
DTSTART:19701025T030000
RRULE:FREQ=YEARLY;INTERVAL=1;BYDAY=-1SU;BYMONTH=10
END:STANDARD
END:VTIMEZONE
BEGIN:VEVENT
UID:ed00b5479879da3bbc7d56c01a0904b0@gruene-oder-spree.de
URL;VALUE=URI:https://gruene-oder-spree.de/termine/der-schoeneicher-klima
 beirat-laedt-ein-zum-themenabend-wasser/
LOCATION:Kulturgießerei, An der Reihe 5, 15566 Schöneiche bei Berlin
SUMMARY:Der Schöneicher Klimabeirat lädt ein zum Themenabend Wasser
DESCRIPTION;ALTREP="data:text/html,%0A%3Cp%3EA%3Cem%3Em%2025.%20Januar%20
 2024%20plant%20der%20Klimabeirat%20in%20der%20Kulturgie%C3%9Ferei%20einen
 %20Themenabend%20zur%20Ressource%20Wasser.%20Dabei%20wird%20es%20neben%20
 konkreten%20Informationen%20zu%20Wasserproblemen%20in%20unserer%20Gemeind
 e%2FRegion%20auch%20einen%20Vortrag%20%E2%80%9EKlimaangepasstes%20G%C3%A4
 rtnern%E2%80%9C%20der%20Werkstatt%20f%C3%BCr%20Biodiversit%C3%A4t%20DAUCU
 M%20aus%20Potsdam%20geben.%20DAUCUM%20ber%C3%A4t%20Firmen%20und%20Privatp
 ersonen%20bei%20der%20Gestaltung%20ihrer%20G%C3%A4rten%20und%20Gr%C3%BCnf
 l%C3%A4chen%20in%20Zeiten%20zunehmend%20trockener%20Sommer%20und%20abnehm
 ender%20Artenvielfalt.%20Allen%20Sch%C3%B6neicherinnen%20und%20Sch%C3%B6n
 eichern%2C%20die%20sich%20auch%20weiterhin%20an%20einem%20bl%C3%BChenden%
 20Garten%20erfreuen%20wollen%2C%20sei%20dieser%20Abend%20besonders%20ans%
 20Herz%20gelegt.%20Es%20wird%20viel%20Zeit%20f%C3%BCr%20Fragen%20und%20Au
 stausch%20geben.%20Der%20Januartermin%20ist%20g%C3%BCnstig%2C%20um%20mit%
 20Ver%C3%A4nderungen%20noch%20in%20diesem%20Jahr%20beginnen%20zu%20k%C3%B
 6nnen.%3C%2Fem%3E%3C%2Fp%3E%0A%0A%0A%0A%3Cp%3E%3Cem%3E25.1.2024%2C%2019%2
 0Uhr%2C%20Kulturgie%C3%9Ferei%2C%20Einlass%2018%3A30%20Uhr%2C%20Eintritt%
 20frei%3C%2Fem%3E%3C%2Fp%3E%0A":Am 25. Januar 2024 plant der Klimabeirat 
 in der Kulturgießerei einen Themenabend zur Ressource Wasser. Dabei wird
  es neben konkreten Informationen zu Wasserproblemen in unserer Gemeinde/
 Region auch einen Vortrag „Klimaangepasstes Gärtnern“ der Werkstatt 
 für Biodiversität DAUCUM aus Potsdam geben. DAUCUM berät Firmen und Pr
 ivatpersonen bei der Gestaltung ihrer Gärten und Grünflächen in Zeiten
  zunehmend trockener Sommer und abnehmender Artenvielfalt. Allen Schönei
 cherinnen und Schöneichern\, die sich auch weiterhin an einem blühenden
  Garten erfreuen wollen\, sei dieser Abend besonders ans Herz gelegt. Es 
 wird viel Zeit für Fragen und Austausch geben. Der Januartermin ist gün
 stig\, um mit Veränderungen noch in diesem Jahr beginnen zu können.\n\n
 25.1.2024\, 19 Uhr\, Kulturgießerei\, Einlass 18:30 Uhr\, Eintritt frei
CLASS:PUBLIC
DTSTART;TZID=Europe/Berlin:20240125T190000
DTEND;TZID=Europe/Berlin:20240125T210000
DTSTAMP:20260422T230259
END:VEVENT
END:VCALENDAR