BEGIN:VCALENDAR
VERSION:2.0
PRODID:gruene-oder-spree.de
METHOD:PUBLISH
BEGIN:VTIMEZONE
TZID:Europe/Berlin
X-LIC-LOCATION:Europe/Berlin
BEGIN:DAYLIGHT
TZOFFSETFROM:+0100
TZOFFSETTO:+0200
TZNAME:CEST
DTSTART:19700329T020000
RRULE:FREQ=YEARLY;INTERVAL=1;BYDAY=-1SU;BYMONTH=3
END:DAYLIGHT
BEGIN:STANDARD
TZOFFSETFROM:+0200
TZOFFSETTO:+0100
TZNAME:CET
DTSTART:19701025T030000
RRULE:FREQ=YEARLY;INTERVAL=1;BYDAY=-1SU;BYMONTH=10
END:STANDARD
END:VTIMEZONE
BEGIN:VEVENT
UID:ecc04663f54bc19447bd4b013aabaa97@gruene-oder-spree.de
URL;VALUE=URI:https://gruene-oder-spree.de/termine/frauenstimmen-treffen/
LOCATION:FrauenStimmen Treffen
SUMMARY:FrauenStimmen Treffen
DESCRIPTION;ALTREP="data:text/html,%0A%3Cp%3EMontag%2C%2022.01.24%2C%20um
 %2020%20Uhr%20auf%20Zoom%3C%2Fp%3E%0A%0A%0A%0A%3Cp%3EWir%20haben%20Birgit
 %20Bader%20von%20den%20Templiner%20Ratsdamen%C2%A0eingeladen%20und%20taus
 chen%20uns%20mit%20ihr%20zu%20ihren%20Erfahrungen%20im%20kommunalpolitisc
 hen%20Netzwerk%20aus.%3C%2Fp%3E%0A%0A%0A%0A%3Cp%3EZudem%20reden%20wir%20%
 C3%BCber%20die%20bisherigen%20Aktionen%20%C3%BCberparteilicher%20Frauenne
 tzwerkarbeit%20und%20die%20daraus%20gewonnenen%20Erkenntnisse%2C%20die%20
 wir%20f%C3%BCr%20die%20Zukunft%20von%20FrauenStimmen%20ber%C3%BCcksichtig
 en%20werden.%26nbsp%3B%3C%2Fp%3E%0A%0A%0A%0A%3Cp%3ENat%C3%BCrlich%20ist%2
 0danach%20noch%20Zeit%20f%C3%BCr%20eure%20aktuellen%20Themen%20und%20Geda
 nken.%3C%2Fp%3E%0A%0A%0A%0A%3Cdiv%20class%3D%22wp-block-buttons%20is-layo
 ut-flex%20wp-block-buttons-is-layout-flex%22%3E%0A%3Cdiv%20class%3D%22wp-
 block-button%22%3E%3Ca%20class%3D%22wp-block-button__link%20wp-element-bu
 tton%22%20href%3D%22https%3A%2F%2Feu02web.zoom-x.de%2Fj%2F66509747538%3Fp
 wd%3DNC9ZWGpkNWROeE9FL0szaERtdjdGUT09%22%3EZoom-Link%3C%2Fa%3E%3C%2Fdiv%3
 E%0A%3C%2Fdiv%3E%0A":Montag\, 22.01.24\, um 20 Uhr auf Zoom\n\nWir haben 
 Birgit Bader von den Templiner Ratsdamen eingeladen und tauschen uns mit
  ihr zu ihren Erfahrungen im kommunalpolitischen Netzwerk aus.\n\nZudem r
 eden wir über die bisherigen Aktionen überparteilicher Frauennetzwerkar
 beit und die daraus gewonnenen Erkenntnisse\, die wir für die Zukunft vo
 n FrauenStimmen berücksichtigen werden. \n\nNatürlich ist danach noch 
 Zeit für eure aktuellen Themen und Gedanken.\n\nZoom-Link
CLASS:PUBLIC
DTSTART;TZID=Europe/Berlin:20240122T200000
DTEND;TZID=Europe/Berlin:20240122T210000
DTSTAMP:20260422T223051
END:VEVENT
END:VCALENDAR