BEGIN:VCALENDAR
VERSION:2.0
PRODID:gruene-oder-spree.de
METHOD:PUBLISH
BEGIN:VTIMEZONE
TZID:Europe/Berlin
X-LIC-LOCATION:Europe/Berlin
BEGIN:DAYLIGHT
TZOFFSETFROM:+0100
TZOFFSETTO:+0200
TZNAME:CEST
DTSTART:19700329T020000
RRULE:FREQ=YEARLY;INTERVAL=1;BYDAY=-1SU;BYMONTH=3
END:DAYLIGHT
BEGIN:STANDARD
TZOFFSETFROM:+0200
TZOFFSETTO:+0100
TZNAME:CET
DTSTART:19701025T030000
RRULE:FREQ=YEARLY;INTERVAL=1;BYDAY=-1SU;BYMONTH=10
END:STANDARD
END:VTIMEZONE
BEGIN:VEVENT
UID:8531e8f1d3d9015f7ad1280b11e92191@gruene-oder-spree.de
URL;VALUE=URI:https://gruene-oder-spree.de/termine/herzliche-einladung-zu
 -unserem-neujahrsempfang/
LOCATION:Parkclub Fürstenwalde, Dr.-Wilhelm-Külz-Straße 10A, 15517 Fü
 rstenwalde/Spree
SUMMARY:Herzliche Einladung zu unserem Neujahrsempfang
DESCRIPTION;ALTREP="data:text/html,%0A%3Cp%3E%3Cstrong%3Eam%2017.01.%20um
 %2018%20Uhr%20im%20Parkclub%20F%C3%BCrstenwalde%3C%2Fstrong%3E%3C%2Fp%3E%
 0A%0A%0A%0A%3Cp%3E%3Cstrong%3EDr.-Wilhelm-K%C3%BClz-Stra%C3%9Fe%2010A%2C%
 2015517%20F%C3%BCrstenwalde%2FSpree%3C%2Fstrong%3E%3C%2Fp%3E%0A%0A%0A%0A%
 3Cp%3E%28barrierefreier%20Zugang%20%C3%BCber%20Heideherr-Schulze-Weg%20un
 d%20Parken%20hinter%20dem%20Club%20m%C3%B6glich%29%3C%2Fp%3E%0A%0A%0A%0A%
 3Cp%3E%3Cstrong%3EProgramm%3C%2Fstrong%3E%3A%3C%2Fp%3E%0A%0A%0A%0A%3Cul%2
 0class%3D%22wp-block-list%22%3E%0A%3Cli%3EBegr%C3%BC%C3%9Fung%20%26amp%3B
 %20Reden%3C%2Fli%3E%0A%0A%0A%0A%3Cli%3EEindr%C3%BCcke%20zur%20S%C3%BCdkor
 ea-Reise%20von%20Michael%20Brack%3C%2Fli%3E%0A%0A%0A%0A%3Cli%3EAustausch%
 20%C3%BCber%20die%20bevorstehenden%20Wahlen%3C%2Fli%3E%0A%0A%0A%0A%3Cli%3
 EBeteiligung%20am%20Kommunalwahlprogramm%3C%2Fli%3E%0A%3C%2Ful%3E%0A%0A%0
 A%0A%3Cp%3EWir%20freuen%20uns%20auf%20einen%20inspirierenden%20Abend%20mi
 t%20euch%21%3C%2Fp%3E%0A":am 17.01. um 18 Uhr im Parkclub Fürstenwalde\n
 \nDr.-Wilhelm-Külz-Straße 10A\, 15517 Fürstenwalde/Spree\n\n(barrieref
 reier Zugang über Heideherr-Schulze-Weg und Parken hinter dem Club mögl
 ich)\n\nProgramm:\n\nBegrüßung & Reden\n\nEindrücke zur Südkorea-Reis
 e von Michael Brack\n\nAustausch über die bevorstehenden Wahlen\n\nBetei
 ligung am Kommunalwahlprogramm\n\nWir freuen uns auf einen inspirierenden
  Abend mit euch!
CLASS:PUBLIC
DTSTART;TZID=Europe/Berlin:20240117T180000
DTEND;TZID=Europe/Berlin:20240117T210000
DTSTAMP:20260422T223420
END:VEVENT
END:VCALENDAR