BEGIN:VCALENDAR
VERSION:2.0
PRODID:gruene-oder-spree.de
METHOD:PUBLISH
BEGIN:VTIMEZONE
TZID:Europe/Berlin
X-LIC-LOCATION:Europe/Berlin
BEGIN:DAYLIGHT
TZOFFSETFROM:+0100
TZOFFSETTO:+0200
TZNAME:CEST
DTSTART:19700329T020000
RRULE:FREQ=YEARLY;INTERVAL=1;BYDAY=-1SU;BYMONTH=3
END:DAYLIGHT
BEGIN:STANDARD
TZOFFSETFROM:+0200
TZOFFSETTO:+0100
TZNAME:CET
DTSTART:19701025T030000
RRULE:FREQ=YEARLY;INTERVAL=1;BYDAY=-1SU;BYMONTH=10
END:STANDARD
END:VTIMEZONE
BEGIN:VEVENT
UID:a8d9586b234fdc43d4e7edabda63c785@gruene-oder-spree.de
URL;VALUE=URI:https://gruene-oder-spree.de/termine/klimafest-in-beeskow/
LOCATION:15848 Beeskow
SUMMARY:Klimafest in Beeskow
DESCRIPTION;ALTREP="data:text/html,%3Cp%3EKlimafest%20%234%20in%20Beeskow
 %3Cbr%20%2F%3E%0AMitmachfest%20f%C3%BCr%20Gro%C3%9F%20und%20Klein%3B%20In
 fos%2C%20Experimente%2C%20Spiele%20etc.%20rund%20ums%20Thema%20Klimaschut
 z.%20%3Cbr%20%2F%3E%0AWer%20mag%2C%20melde%20gerne%20einen%20Stand%20an%2
 1%20Kontakt%3A%20claudia.laue%40gruene-oder-spree.de%3C%2Fp%3E":Klimafest
  #4 in Beeskow\n\nMitmachfest für Groß und Klein\; Infos\, Experimente\
 , Spiele etc. rund ums Thema Klimaschutz.\n\nWer mag\, melde gerne einen 
 Stand an! Kontakt: claudia.laue@gruene-oder-spree.de
CLASS:PUBLIC
DTSTART;TZID=Europe/Berlin:20260905T100000
DTEND;TZID=Europe/Berlin:20260905T140000
DTSTAMP:20260422T182658
END:VEVENT
END:VCALENDAR