BEGIN:VCALENDAR
VERSION:2.0
PRODID:gruene-oder-spree.de
METHOD:PUBLISH
BEGIN:VTIMEZONE
TZID:Europe/Berlin
X-LIC-LOCATION:Europe/Berlin
BEGIN:DAYLIGHT
TZOFFSETFROM:+0100
TZOFFSETTO:+0200
TZNAME:CEST
DTSTART:19700329T020000
RRULE:FREQ=YEARLY;INTERVAL=1;BYDAY=-1SU;BYMONTH=3
END:DAYLIGHT
BEGIN:STANDARD
TZOFFSETFROM:+0200
TZOFFSETTO:+0100
TZNAME:CET
DTSTART:19701025T030000
RRULE:FREQ=YEARLY;INTERVAL=1;BYDAY=-1SU;BYMONTH=10
END:STANDARD
END:VTIMEZONE
BEGIN:VEVENT
UID:7fc8231b1dcb5882c07395dc1cdf93eb@gruene-oder-spree.de
URL;VALUE=URI:https://gruene-oder-spree.de/termine/kreis-mitgliederversam
 mlung-buendnis-90-die-guenen-oder-spree/
LOCATION:Kulturgießerei, An der Reihe 5, 15566 Schöneiche bei Berlin
SUMMARY:Kreis- mitgliederversammlung BÜNDNIS 90/DIE GÜNEN Oder-Spree
DESCRIPTION;ALTREP="data:text/html,%0A%3Cp%3ELiebe%20Mitglieder%2C%20lieb
 e%20Kandidierende%2C%3Cbr%3En%C3%A4chste%20Woche%20findet%20bei%20uns%20i
 n%20Oder-Spree%20noch%20eine%20Kreismitgliederversammlung%20statt.%3C%2Fp
 %3E%0A%0A%0A%0A%3Cp%3EAm%20Mittwoch%2C%20den%2027.03.2024%20treffen%20wir
 %20uns%20um%2019%3A00%20Uhr%20in%20Sch%C3%B6neiche%20%28Kulturgie%C3%9Fer
 ei%2C%20An%20der%20Reihe%205%2C%2015566%20Sch%C3%B6neiche%20bei%20Berlin%
 29%26nbsp%3B%3C%2Fp%3E%0A":Liebe Mitglieder\, liebe Kandidierende\,nächs
 te Woche findet bei uns in Oder-Spree noch eine Kreismitgliederversammlun
 g statt.\n\nAm Mittwoch\, den 27.03.2024 treffen wir uns um 19:00 Uhr in 
 Schöneiche (Kulturgießerei\, An der Reihe 5\, 15566 Schöneiche bei Ber
 lin) 
CLASS:PUBLIC
DTSTART;TZID=Europe/Berlin:20240327T190000
DTEND;TZID=Europe/Berlin:20240327T200000
DTSTAMP:20260422T223227
END:VEVENT
END:VCALENDAR