BEGIN:VCALENDAR
VERSION:2.0
PRODID:gruene-oder-spree.de
METHOD:PUBLISH
BEGIN:VTIMEZONE
TZID:Europe/Berlin
X-LIC-LOCATION:Europe/Berlin
BEGIN:DAYLIGHT
TZOFFSETFROM:+0100
TZOFFSETTO:+0200
TZNAME:CEST
DTSTART:19700329T020000
RRULE:FREQ=YEARLY;INTERVAL=1;BYDAY=-1SU;BYMONTH=3
END:DAYLIGHT
BEGIN:STANDARD
TZOFFSETFROM:+0200
TZOFFSETTO:+0100
TZNAME:CET
DTSTART:19701025T030000
RRULE:FREQ=YEARLY;INTERVAL=1;BYDAY=-1SU;BYMONTH=10
END:STANDARD
END:VTIMEZONE
BEGIN:VEVENT
UID:847f72867d09b78c5895656b58a5c2be@gruene-oder-spree.de
URL;VALUE=URI:https://gruene-oder-spree.de/termine/kreismitgliederversamm
 lung/
LOCATION:Büro Fürstenwalde, Mühlenstr. 5d, 15517 Fürstenwalde
SUMMARY:Kreismitgliederversammlung
DESCRIPTION;ALTREP="data:text/html,%0A%3Cp%3EWir%20laden%20euch%20herzlic
 h%20zu%20unserer%20n%C3%A4chsten%20Kreismitgliederversammlung%20am%20Dien
 stag%2C%20den%20%3Cstrong%3E15.10.2024%3C%2Fstrong%3E%20um%20%3Cstrong%3E
 18%3A00%20%3C%2Fstrong%3EUhr%20in%20unserem%20F%C3%BCrstenwalder%20B%C3%B
 Cro%20%28%3Cstrong%3EM%C3%BChlenstr.%205d%2C%2015517%20F%C3%BCrstenwalde%
 3C%2Fstrong%3E%29%20ein.%3C%2Fp%3E%0A%0A%0A%0A%3Cp%3EEs%20wird%20auch%20w
 ieder%20die%20M%C3%B6glichkeit%20geben%2C%20dass%20ihr%20euch%20%3Cstrong
 %3Edigital%20zuschalten%3C%2Fstrong%3E%20k%C3%B6nnt.%20Klickt%20dazu%20ei
 nfach%20auf%20folgendem%20Link%3A%3C%2Fp%3E%0A%0A%0A%0A%3Cdiv%20class%3D%
 22wp-block-buttons%20is-layout-flex%20wp-block-buttons-is-layout-flex%22%
 3E%0A%3Cdiv%20class%3D%22wp-block-button%22%3E%3Ca%20class%3D%22wp-block-
 button__link%20wp-element-button%22%20href%3D%22https%3A%2F%2Fbbb.netzbeg
 ruenung.de%2Frooms%2Fbtn-sr5-v2n-37z%2Fjoin%22%3Edigitaler%20Raum%20Kreis
 mitgliederversammlung%3C%2Fa%3E%3C%2Fdiv%3E%0A%3C%2Fdiv%3E%0A%0A%0A%0A%3C
 p%3EAuf%20unserer%20Kreismitgliederversammlung%20wollen%20wir%20unter%20a
 nderem%20%C3%BCber%20die%20Landtagswahl%20besprechen.%20Weitere%20Informa
 tionen%20folgen%20hier%20in%20K%C3%BCrze.%3C%2Fp%3E%0A%0A%0A%0A%3Cp%3EIhr
 %20k%C3%B6nnt%20gerne%20auch%20an%20unserer%20Kreismitgliederversammlung%
 20teilnehmen%2C%20auch%20wenn%20ihr%20kein%20Mitglied%20seid.%20Damit%20w
 ir%20dann%20Bescheid%20wissen%2C%20schreibt%20uns%20dann%20am%20besten%20
 eine%20kurze%20Nachricht%20an%20kgf%28at%29gruene-frankfurt-oder.de%3C%2F
 p%3E%0A%0A%0A%0A%3Cp%3EWir%20freuen%20uns%20auf%20euch%21%3C%2Fp%3E%0A%0A
 %0A%0A%3Cp%3E%3C%2Fp%3E%0A":Wir laden euch herzlich zu unserer nächsten 
 Kreismitgliederversammlung am Dienstag\, den 15.10.2024 um 18:00 Uhr in u
 nserem Fürstenwalder Büro (Mühlenstr. 5d\, 15517 Fürstenwalde) ein.\n
 \nEs wird auch wieder die Möglichkeit geben\, dass ihr euch digital zusc
 halten könnt. Klickt dazu einfach auf folgendem Link:\n\ndigitaler Raum 
 Kreismitgliederversammlung\n\nAuf unserer Kreismitgliederversammlung woll
 en wir unter anderem über die Landtagswahl besprechen. Weitere Informati
 onen folgen hier in Kürze.\n\nIhr könnt gerne auch an unserer Kreismitg
 liederversammlung teilnehmen\, auch wenn ihr kein Mitglied seid. Damit wi
 r dann Bescheid wissen\, schreibt uns dann am besten eine kurze Nachricht
  an kgf(at)gruene-frankfurt-oder.de\n\nWir freuen uns auf euch!
CLASS:PUBLIC
DTSTART;TZID=Europe/Berlin:20241015T180000
DTEND;TZID=Europe/Berlin:20241015T190000
DTSTAMP:20260422T222950
END:VEVENT
END:VCALENDAR