BEGIN:VCALENDAR
VERSION:2.0
PRODID:gruene-oder-spree.de
METHOD:PUBLISH
BEGIN:VTIMEZONE
TZID:Europe/Berlin
X-LIC-LOCATION:Europe/Berlin
BEGIN:DAYLIGHT
TZOFFSETFROM:+0100
TZOFFSETTO:+0200
TZNAME:CEST
DTSTART:19700329T020000
RRULE:FREQ=YEARLY;INTERVAL=1;BYDAY=-1SU;BYMONTH=3
END:DAYLIGHT
BEGIN:STANDARD
TZOFFSETFROM:+0200
TZOFFSETTO:+0100
TZNAME:CET
DTSTART:19701025T030000
RRULE:FREQ=YEARLY;INTERVAL=1;BYDAY=-1SU;BYMONTH=10
END:STANDARD
END:VTIMEZONE
BEGIN:VEVENT
UID:6e3e173c6e0517216b41f49d7e8f6b5d@gruene-oder-spree.de
URL;VALUE=URI:https://gruene-oder-spree.de/termine/kreismitgliederversamm
 lung-3/
LOCATION:Beeskow
SUMMARY:Kreismitgliederversammlung
DESCRIPTION;ALTREP="data:text/html,%3Cp%3ESatzung%20und%20Wahlordnung%20%
 282.%20Lesung%20und%20Beschluss%29%3C%2Fp%3E":Satzung und Wahlordnung (2.
  Lesung und Beschluss)
CLASS:PUBLIC
DTSTART;TZID=Europe/Berlin:20260612T180000
DTEND;TZID=Europe/Berlin:20260612T210000
DTSTAMP:20260422T184827
END:VEVENT
END:VCALENDAR