BEGIN:VCALENDAR
VERSION:2.0
PRODID:gruene-oder-spree.de
METHOD:PUBLISH
BEGIN:VTIMEZONE
TZID:Europe/Berlin
X-LIC-LOCATION:Europe/Berlin
BEGIN:DAYLIGHT
TZOFFSETFROM:+0100
TZOFFSETTO:+0200
TZNAME:CEST
DTSTART:19700329T020000
RRULE:FREQ=YEARLY;INTERVAL=1;BYDAY=-1SU;BYMONTH=3
END:DAYLIGHT
BEGIN:STANDARD
TZOFFSETFROM:+0200
TZOFFSETTO:+0100
TZNAME:CET
DTSTART:19701025T030000
RRULE:FREQ=YEARLY;INTERVAL=1;BYDAY=-1SU;BYMONTH=10
END:STANDARD
END:VTIMEZONE
BEGIN:VEVENT
UID:54112e9e217178f2bcd79e52a8405c26@gruene-oder-spree.de
URL;VALUE=URI:https://gruene-oder-spree.de/termine/kreismitgliederversamm
 lung-und-neumitgliedertreffen/
LOCATION:KV Büro Fürstenwalde, Mühlenstr. 5d, 15517 Fürstenwalde
SUMMARY:Kreismitgliederversammlung und Neumitgliedertreffen
DESCRIPTION;ALTREP="data:text/html,%0A%3Cfigure%20class%3D%22wp-block-tab
 le%20is-style-stripes%22%3E%3Ctable%20class%3D%22has-fixed-layout%22%3E%3
 Ctbody%3E%3Ctr%3E%3Ctd%3ELiebe%20Mitglieder%2C%20liebe%20Interessierte%2C
 %3Cbr%3Ewir%20m%C3%B6chten%20euch%20herzlich%20zu%20unserer%20n%C3%A4chst
 en%20Kreismitgliederversammlung%20einladen.%3Cbr%3E%3Cbr%3EDie%20Kreismit
 gliederversammlung%20wird%20stattfinden%3A%3Cbr%3E-%20am%C2%A0%3Cstrong%3
 EDonnerstag%3C%2Fstrong%3E%2C%20den%C2%A0%3Cstrong%3E28.11.2024%3C%2Fstro
 ng%3E%3Cbr%3E-%20um%C2%A0%3Cstrong%3E19%3A00%3C%2Fstrong%3E%C2%A0Uhr%3Cbr
 %3E-%20in%20unserem%C2%A0%3Cstrong%3EB%C3%BCro%20in%20F%C3%BCrstenwalde%3
 C%2Fstrong%3E%3Cbr%3E-%20in%20der%C2%A0%3Cstrong%3EM%C3%BChlenstr.%205d%2
 C%2015517%20F%C3%BCrstenwalde%3C%2Fstrong%3E%3Cbr%3E%3Cbr%3EAll%20unsere%
 20Neumitglieder%20laden%20wir%20bereits%20zu%20einem%20%3Cstrong%3ENeumit
 gliedertreffen%3C%2Fstrong%3E%20ein.%20Das%20Neumitgliedertreffen%20start
 et%20eine%20Stunde%20vor%20der%20Kreismitgliederversammlung.%20Wir%20tref
 fen%20uns%20um%2018%20Uhr%20ebenfalls%20in%20unserem%20B%C3%BCro%20in%20F
 %C3%BCrstenwalde.%3Cbr%3E%3Cbr%3EWenn%20ihr%20am%20Neumitgliedertreffen%2
 0teilnehmen%20wollt%2C%20meldet%20euch%20bitte%20einmal%20kurz%20unter%20
 folgendem%20Link%20an%2C%20damit%20wir%20besser%20planen%20k%C3%B6nnen%3A
 %3Cbr%3E%3Cstrong%3E%3Ca%20href%3D%22https%3A%2F%2Ftermite.gruene.de%2Fin
 vite%2FC8GdgnSAak2H%22%20target%3D%22_blank%22%20rel%3D%22noreferrer%20no
 opener%22%3EHier%20klicken%20f%C3%BCr%20den%20Anmeldelink%3C%2Fa%3E%3C%2F
 strong%3E%3Cbr%3E%3Cbr%3EBei%20Fragen%20zum%20Neumitgliedertreffen%20k%C3
 %B6nnt%20ihr%20euch%20gerne%20an%20Stefan%20wenden%3A%20post%28at%29stefa
 n-brandes.de%3Cbr%3E%3Cbr%3EF%C3%BCr%20die%20Kreismitgliederversammlung%2
 0k%C3%B6nnen%20Mitglieder%20ohne%20Anmeldung%20vorbeikommen.%20G%C3%A4ste
 n%20bitten%20wir%20sich%20unter%20kgf%28at%29gruene-oder-spree.de%20anzum
 elden.%3Cbr%3E%3C%2Ftd%3E%3C%2Ftr%3E%3C%2Ftbody%3E%3C%2Ftable%3E%3C%2Ffig
 ure%3E%0A%0A%0A%0A%3Cfigure%20class%3D%22wp-block-table%20is-style-stripe
 s%22%3E%3Ctable%20class%3D%22has-fixed-layout%22%3E%3Ctbody%3E%3Ctr%3E%3C
 td%3E%3Cstrong%3EHybride%20KMV%3A%20Ihr%20k%C3%B6nnt%20euch%20wie%20immer
 %20auch%20digital%20zuschalten%3A%3C%2Fstrong%3E%3Cbr%3EWie%20immer%20bie
 ten%20wir%20euch%20an%20die%20Kreismitgliederversammlung%20digital%20zu%2
 0verfolgen.%20Leider%20k%C3%B6nnt%20ihr%20diesmal%20aber%20nur%20in%20Pr%
 C3%A4senz%20abstimmen.%3Cbr%3E%3Cbr%3E%C3%9Cber%20folgendem%20Link%20k%C3
 %B6nnt%20ihr%20digital%20teilnehmen%3A%3Cbr%3E%3Ca%20href%3D%22https%3A%2
 F%2Fbbb.netzbegruenung.de%2Frooms%2Fbtn-sr5-v2n-37z%2Fjoin%22%20target%3D
 %22_blank%22%20rel%3D%22noreferrer%20noopener%22%3Ehttps%3A%2F%2Fbbb.netz
 begruenung.de%2Frooms%2Fbtn-sr5-v2n-37z%2Fjoin%3C%2Fa%3E%3Cbr%3E%3Cbr%3EW
 ir%20w%C3%BCrden%20euch%20jedoch%20bitten%2C%20dass%20ihr%20wenn%20m%C3%B
 6glich%20in%20Pr%C3%A4senz%20im%20B%C3%BCro%20in%20F%C3%BCrstenwalde%20da
 bei%20seid%2C%20damit%20wir%20beschlussf%C3%A4hig%20sind.%3Cbr%3E%3Ca%20h
 ref%3D%22https%3A%2F%2Fbbb.netzbegruenung.de%2Frooms%2Fbtn-sr5-v2n-37z%2F
 join%22%20target%3D%22_blank%22%20rel%3D%22noreferrer%20noopener%22%3ELin
 k%20zur%20digitalen%20Teilnahme%3C%2Fa%3E%3C%2Ftd%3E%3C%2Ftr%3E%3C%2Ftbod
 y%3E%3C%2Ftable%3E%3C%2Ffigure%3E%0A%0A%0A%0A%3Cdiv%20class%3D%22wp-block
 -group%20is-layout-constrained%20wp-block-group-is-layout-constrained%22%
 3E%0A%3Cdiv%20class%3D%22wp-block-columns%20is-layout-flex%20wp-container
 -core-columns-is-layout-9d6595d7%20wp-block-columns-is-layout-flex%22%3E%
 0A%3Cdiv%20class%3D%22wp-block-column%20is-layout-flow%20wp-block-column-
 is-layout-flow%22%20style%3D%22flex-basis%3A100%25%22%3E%0A%3Cfigure%20cl
 ass%3D%22wp-block-table%20is-style-stripes%22%3E%3Ctable%20class%3D%22has
 -fixed-layout%22%3E%3Ctbody%3E%3Ctr%3E%3Ctd%3E%3Cstrong%3ETagesordnung%20
 der%20Kreismitgliederversammlung%3C%2Fstrong%3E%3Cbr%3E%3Cbr%3EIhr%20find
 et%20die%20Tagesordnung%20auch%20im%20%3Cstrong%3E%3Ca%20href%3D%22https%
 3A%2F%2Fkmv28112024.antragsgruen.de%2F%22%20target%3D%22_blank%22%20rel%3
 D%22noreferrer%20noopener%22%3EAntragsgr%C3%BCn%3C%2Fa%3E%3C%2Fstrong%3E%
 3A%3Cbr%3E%3Ca%20href%3D%22https%3A%2F%2Fkmv28112024.antragsgruen.de%2F%2
 2%20target%3D%22_blank%22%20rel%3D%22noreferrer%20noopener%22%3Ehttps%3A%
 2F%2Fkmv28112024.antragsgruen.de%2F%3C%2Fa%3E%3Cbr%3E%3Cbr%3E1.%20Begr%C3
 %BC%C3%9Fung%20und%20Er%C3%B6ffnung%20der%20Kreismitgliederversammlung%3C
 br%3E%3Cbr%3E2.%20Formalia%3Cbr%3E2.1%20Feststellung%20der%20Beschlussf%C
 3%A4higkeit%3Cbr%3E2.2.%20Best%C3%A4tigung%20der%20Protokolle%20vergangen
 er%20Kreismitgliederversammlungen%3Cbr%3E2.3%20Abstimmung%20%C3%BCber%20d
 ie%20Tagesordnung%3Cbr%3E%3Cbr%3E3.%20Satzungs%C3%A4nderungen%3Cbr%3EAntr
 ag%20zur%20%C3%84nderung%20der%20Satzung%3A%20Neuregelungen%20bez%C3%BCgl
 ich%20der%20Beschlussf%C3%A4higkeit%3Cbr%3E%3Cbr%3E4%20Wahlen%3Cbr%3E4.1%
 20Best%C3%A4tigung%20der%20Wahl%20von%20Claudia%20Laue%20und%20Mariel%20S
 upka%20als%20Beisitzerinnen%20im%20Kreisvorstand%3Cbr%3E4.2%20Delegierten
 wahlen%3Cbr%3E4.2.1%20Wahl%20der%20Delegierten%20und%20Ersatzdelegierten%
 20f%C3%BCr%20die%20Bundesdelegiertenkonferenz%20%28BDK%29%3Cbr%3E4.2.2%20
 Wahl%20der%20Delegierten%20und%20Ersatzdelegierten%20f%C3%BCr%20die%20Lan
 desdelegiertenkonferenz%20%28LDK%29%3Cbr%3E4.2.3%20Wahl%20der%20Delegiert
 en%20und%20Ersatzdelegierten%20f%C3%BCr%20den%20Landesdelegiertenrat%20%2
 8LDR%29%3Cbr%3E%3Cbr%3E5.%20Bundestagswahlkampf%3Cbr%3E5.1%20Vorstellung%
 20von%20Jolanda%20Rose%20als%20Direktkandidatin%20f%C3%BCr%20Wahlkreis%20
 63%20%28FFO%2FLOS%29%3Cbr%3E5.2%20Wahlkampfteam%3Cbr%3E%3Cbr%3E6.%20Termi
 ne%3Cbr%3E%3Cbr%3E7.%20Verschiedenes%3C%2Ftd%3E%3C%2Ftr%3E%3C%2Ftbody%3E%
 3C%2Ftable%3E%3C%2Ffigure%3E%0A%3C%2Fdiv%3E%0A%3C%2Fdiv%3E%0A%3C%2Fdiv%3E
 %0A%0A%0A%0A%3Cfigure%20class%3D%22wp-block-table%20is-style-stripes%22%3
 E%3Ctable%20class%3D%22has-fixed-layout%22%3E%3Ctbody%3E%3Ctr%3E%3Ctd%3E%
 3Cstrong%3EWir%20freuen%20uns%20auf%20euch%21%3C%2Fstrong%3E%3Cbr%3EWenn%
 20ihr%20Fragen%20habt%2C%20k%C3%B6nnt%20ihr%20euch%20gerne%20an%20Julian%
 20wenden%3A%20kgf%28at%29gruene-oder-spee.de%3Cbr%3E%3Cbr%3EWir%20sehen%2
 0uns%20am%2020.11.%20und%20am%2028.11.%3Cbr%3E%3Cbr%3ELiebe%20Gr%C3%BC%C3
 %9Fe%3Cbr%3EErdmute%2C%20Stefan%2C%20Mariel%2C%20Claudia%2C%20Peter%2C%20
 J%C3%B6rg%2C%20Ronny%20und%20Julian%3Cbr%3E%28Vorstand%20%26amp%3B%20Krei
 sgesch%C3%A4ftsf%C3%BChrung%20B%C3%9CNDNIS%2090%2FDIE%20GR%C3%9CNEN%20Ode
 r-Spree%29%3C%2Ftd%3E%3C%2Ftr%3E%3C%2Ftbody%3E%3C%2Ftable%3E%3C%2Ffigure%
 3E%0A":Liebe Mitglieder\, liebe Interessierte\,wir möchten euch herzlich
  zu unserer nächsten Kreismitgliederversammlung einladen.Die Kreismitgli
 ederversammlung wird stattfinden:- am Donnerstag\, den 28.11.2024- um 
 19:00 Uhr- in unserem Büro in Fürstenwalde- in der Mühlenstr. 5d\, 
 15517 FürstenwaldeAll unsere Neumitglieder laden wir bereits zu einem Ne
 umitgliedertreffen ein. Das Neumitgliedertreffen startet eine Stunde vor 
 der Kreismitgliederversammlung. Wir treffen uns um 18 Uhr ebenfalls in un
 serem Büro in Fürstenwalde.Wenn ihr am Neumitgliedertreffen teilnehmen 
 wollt\, meldet euch bitte einmal kurz unter folgendem Link an\, damit wir
  besser planen können:Hier klicken für den AnmeldelinkBei Fragen zum Ne
 umitgliedertreffen könnt ihr euch gerne an Stefan wenden: post(at)stefan
 -brandes.deFür die Kreismitgliederversammlung können Mitglieder ohne An
 meldung vorbeikommen. Gästen bitten wir sich unter kgf(at)gruene-oder-sp
 ree.de anzumelden.\n\nHybride KMV: Ihr könnt euch wie immer auch digital
  zuschalten:Wie immer bieten wir euch an die Kreismitgliederversammlung d
 igital zu verfolgen. Leider könnt ihr diesmal aber nur in Präsenz absti
 mmen.Über folgendem Link könnt ihr digital teilnehmen:https://bbb.netzb
 egruenung.de/rooms/btn-sr5-v2n-37z/joinWir würden euch jedoch bitten\, d
 ass ihr wenn möglich in Präsenz im Büro in Fürstenwalde dabei seid\, 
 damit wir beschlussfähig sind.Link zur digitalen Teilnahme\n\nTagesordnu
 ng der KreismitgliederversammlungIhr findet die Tagesordnung auch im Antr
 agsgrün:https://kmv28112024.antragsgruen.de/1. Begrüßung und Eröffnun
 g der Kreismitgliederversammlung2. Formalia2.1 Feststellung der Beschluss
 fähigkeit2.2. Bestätigung der Protokolle vergangener Kreismitgliederver
 sammlungen2.3 Abstimmung über die Tagesordnung3. SatzungsänderungenAntr
 ag zur Änderung der Satzung: Neuregelungen bezüglich der Beschlussfähi
 gkeit4 Wahlen4.1 Bestätigung der Wahl von Claudia Laue und Mariel Supka 
 als Beisitzerinnen im Kreisvorstand4.2 Delegiertenwahlen4.2.1 Wahl der De
 legierten und Ersatzdelegierten für die Bundesdelegiertenkonferenz (BDK)
 4.2.2 Wahl der Delegierten und Ersatzdelegierten für die Landesdelegiert
 enkonferenz (LDK)4.2.3 Wahl der Delegierten und Ersatzdelegierten für de
 n Landesdelegiertenrat (LDR)5. Bundestagswahlkampf5.1 Vorstellung von Jol
 anda Rose als Direktkandidatin für Wahlkreis 63 (FFO/LOS)5.2 Wahlkampfte
 am6. Termine7. Verschiedenes\n\nWir freuen uns auf euch!Wenn ihr Fragen h
 abt\, könnt ihr euch gerne an Julian wenden: kgf(at)gruene-oder-spee.deW
 ir sehen uns am 20.11. und am 28.11.Liebe GrüßeErdmute\, Stefan\, Marie
 l\, Claudia\, Peter\, Jörg\, Ronny und Julian(Vorstand & Kreisgeschäfts
 führung BÜNDNIS 90/DIE GRÜNEN Oder-Spree)
CLASS:PUBLIC
DTSTART;TZID=Europe/Berlin:20241128T190000
DTEND;TZID=Europe/Berlin:20241128T200000
DTSTAMP:20260422T225935
END:VEVENT
END:VCALENDAR