BEGIN:VCALENDAR
VERSION:2.0
PRODID:gruene-oder-spree.de
METHOD:PUBLISH
BEGIN:VTIMEZONE
TZID:Europe/Berlin
X-LIC-LOCATION:Europe/Berlin
BEGIN:DAYLIGHT
TZOFFSETFROM:+0100
TZOFFSETTO:+0200
TZNAME:CEST
DTSTART:19700329T020000
RRULE:FREQ=YEARLY;INTERVAL=1;BYDAY=-1SU;BYMONTH=3
END:DAYLIGHT
BEGIN:STANDARD
TZOFFSETFROM:+0200
TZOFFSETTO:+0100
TZNAME:CET
DTSTART:19701025T030000
RRULE:FREQ=YEARLY;INTERVAL=1;BYDAY=-1SU;BYMONTH=10
END:STANDARD
END:VTIMEZONE
BEGIN:VEVENT
UID:94af114a799a5d4dce4a0f9ab08f897d@gruene-oder-spree.de
URL;VALUE=URI:https://gruene-oder-spree.de/termine/kreismitgliederversamm
 lung-und-sommerfest/
LOCATION:KV-Büro, Mühlenstr. 5d, 15517 Fürstenwalde
SUMMARY:Kreismitgliederversammlung und Sommerfest
DESCRIPTION;ALTREP="data:text/html,%0A%3Cp%3ELiebe%20Mitglieder%2C%20lieb
 e%20Freund%3Ainnen%2C%3Cbr%3Ewir%20laden%20euch%20herzlich%20zu%20unserer
 %20n%C3%A4chsten%20Kreismitgliederversammlung%20und%20unserem%20Sommerfes
 t%20ein.%3C%2Fp%3E%0A%0A%0A%0A%3Cp%3EUnsere%26nbsp%3B%3Cstrong%3EKreismit
 gliederversammlung%3C%2Fstrong%3E%26nbsp%3Bund%20unser%26nbsp%3B%3Cstrong
 %3ESommerfest%3C%2Fstrong%3E%26nbsp%3Bfinden%20am%26nbsp%3B%3Cstrong%3EFr
 eitag%2C%20den%2021.06.2024%3C%2Fstrong%3E%26nbsp%3Bin%20unserem%20B%C3%B
 Cro%20in%26nbsp%3B%3Cstrong%3EF%C3%BCrstenwalde%3C%2Fstrong%3E%26nbsp%3B%
 28M%C3%BChlenstr.%205d%2C%2015517%20F%C3%BCrstenwalde%29%20statt.%3C%2Fp%
 3E%0A%0A%0A%0A%3Cp%3EDas%20ist%20die%26nbsp%3B%3Cstrong%3ETagesordnung%3C
 %2Fstrong%3E%26nbsp%3Bf%C3%BCr%20die%20Kreismitgliederversammlung%3Cbr%3E
 1.%20Er%C3%B6ffnung%26nbsp%3B%3Cbr%3E2.%20Organisatorisches%3Cbr%3E2.1%20
 Annahme%20der%20Tagesordnung%3Cbr%3E2.2%20Feststellung%20der%20ordnungsge
 m%C3%A4%C3%9Fen%20Ladung%3Cbr%3E2.3%20Abstimmung%20%C3%BCber%20Protokolle
 %3Cbr%3E3.%20Beschluss%20Anzahl%20der%20Laternenplakate%20f%C3%BCr%20die%
 20Landtagswahl%3Cbr%3E4.%20Wahl%20offene%20Pl%C3%A4tze%20im%20Vorstand%20
 %28bis%20zu%20zwei%20Beisitzerinnen%2C%20Frauenpl%C3%A4tze%29%3Cbr%3E5.%2
 0Termine%20und%26nbsp%3BSonstiges%3Cbr%3E7.%20Ausklang%20und%20Sommerfest
 %3C%2Fp%3E%0A":Liebe Mitglieder\, liebe Freund:innen\,wir laden euch herz
 lich zu unserer nächsten Kreismitgliederversammlung und unserem Sommerfe
 st ein.\n\nUnsere Kreismitgliederversammlung und unser Sommerfest fin
 den am Freitag\, den 21.06.2024 in unserem Büro in Fürstenwalde (M
 ühlenstr. 5d\, 15517 Fürstenwalde) statt.\n\nDas ist die Tagesordnung
  für die Kreismitgliederversammlung1. Eröffnung 2. Organisatorisches2
 .1 Annahme der Tagesordnung2.2 Feststellung der ordnungsgemäßen Ladung2
 .3 Abstimmung über Protokolle3. Beschluss Anzahl der Laternenplakate fü
 r die Landtagswahl4. Wahl offene Plätze im Vorstand (bis zu zwei Beisitz
 erinnen\, Frauenplätze)5. Termine und Sonstiges7. Ausklang und Sommerfe
 st
CLASS:PUBLIC
DTSTART;TZID=Europe/Berlin:20240621T180000
DTEND;TZID=Europe/Berlin:20240621T190000
DTSTAMP:20260422T223304
END:VEVENT
END:VCALENDAR