BEGIN:VCALENDAR
VERSION:2.0
PRODID:gruene-oder-spree.de
METHOD:PUBLISH
BEGIN:VTIMEZONE
TZID:Europe/Berlin
X-LIC-LOCATION:Europe/Berlin
BEGIN:DAYLIGHT
TZOFFSETFROM:+0100
TZOFFSETTO:+0200
TZNAME:CEST
DTSTART:19700329T020000
RRULE:FREQ=YEARLY;INTERVAL=1;BYDAY=-1SU;BYMONTH=3
END:DAYLIGHT
BEGIN:STANDARD
TZOFFSETFROM:+0200
TZOFFSETTO:+0100
TZNAME:CET
DTSTART:19701025T030000
RRULE:FREQ=YEARLY;INTERVAL=1;BYDAY=-1SU;BYMONTH=10
END:STANDARD
END:VTIMEZONE
BEGIN:VEVENT
UID:8fece2b11b4853d9aa6f8d01eb217678@gruene-oder-spree.de
URL;VALUE=URI:https://gruene-oder-spree.de/termine/kreisvorstandssitzung-
 gruene-oder-spree-3/
LOCATION:
SUMMARY:Kreisvorstandssitzung GRÜNE Oder-Spree
DESCRIPTION;ALTREP="data:text/html,%3Cp%3EDie%20Sitzungen%20des%20Kreisvo
 rstands%20sind%20mitglieder%C3%B6ffentlich.%20Das%20bedeutet%2C%20dass%20
 alle%20Mitglieder%20an%20der%20Vorstandssitzung%20teilnehmen%20k%C3%B6nne
 n.%20%28jedoch%20ohne%20Stimmrecht%29.%20%3Cbr%20%2F%3E%0A%3Cbr%20%2F%3E%
 0ADu%20m%C3%B6chtest%20teilnehmen%3F%20Dann%20schreibe%20eine%20kurze%20M
 ail%20an%20kgf%28at%29gruene-oder-spree.de%3C%2Fp%3E":Die Sitzungen des K
 reisvorstands sind mitgliederöffentlich. Das bedeutet\, dass alle Mitgli
 eder an der Vorstandssitzung teilnehmen können. (jedoch ohne Stimmrecht)
 .\n\nDu möchtest teilnehmen? Dann schreibe eine kurze Mail an kgf(at)gru
 ene-oder-spree.de
CLASS:PUBLIC
DTSTART;TZID=Europe/Berlin:20260519T180000
DTEND;TZID=Europe/Berlin:20260519T200000
DTSTAMP:20260420T092523
END:VEVENT
END:VCALENDAR