BEGIN:VCALENDAR
VERSION:2.0
PRODID:gruene-oder-spree.de
METHOD:PUBLISH
BEGIN:VTIMEZONE
TZID:Europe/Berlin
X-LIC-LOCATION:Europe/Berlin
BEGIN:DAYLIGHT
TZOFFSETFROM:+0100
TZOFFSETTO:+0200
TZNAME:CEST
DTSTART:19700329T020000
RRULE:FREQ=YEARLY;INTERVAL=1;BYDAY=-1SU;BYMONTH=3
END:DAYLIGHT
BEGIN:STANDARD
TZOFFSETFROM:+0200
TZOFFSETTO:+0100
TZNAME:CET
DTSTART:19701025T030000
RRULE:FREQ=YEARLY;INTERVAL=1;BYDAY=-1SU;BYMONTH=10
END:STANDARD
END:VTIMEZONE
BEGIN:VEVENT
UID:1c69f9e9ac80c807ff716b5e4730854c@gruene-oder-spree.de
URL;VALUE=URI:https://gruene-oder-spree.de/termine/landesdelegiertenkonfe
 renz-gruene-brandenburg/
LOCATION:Cottbus
SUMMARY:Landes- delegiertenkonferenz GRÜNE Brandenburg
DESCRIPTION;ALTREP="data:text/html,%0A%3Cp%3EDie%2051.%20ordentliche%20La
 ndesdelegiertenkonferenz%20%7C%20LDK%20von%20B%C3%9CNDNIS%2090%2FDIE%20GR
 %C3%9CNEN%20Brandenburg%20findet%20statt%3A%3C%2Fp%3E%0A%0A%0A%0A%3Cp%3E%
 3Cstrong%3Eam%202.%20UND%203.%20M%C3%A4rz%202024%20ab%2010.30%20Uhr%3C%2F
 strong%3E%3C%2Fp%3E%0A%0A%0A%0A%3Cp%3E%3Cstrong%3Ein%20der%20Stadthalle%2
 0Cottbus%2C%20Berliner%20Pl.%206%2C%2003046%20Cottbus%3C%2Fstrong%3E%3C%2
 Fp%3E%0A%0A%0A%0A%3Cp%3E%3C%2Fp%3E%0A%0A%0A%0A%3Cp%3EWeitere%20Informatio
 nen%20findet%20ihr%20unter%3A%3C%2Fp%3E%0A%0A%0A%0A%3Cp%3E%3Ca%20href%3D%
 22https%3A%2F%2Fgruene-brandenburg.de%2Fldk%22%3Ehttps%3A%2F%2Fgruene-bra
 ndenburg.de%2Fldk%3C%2Fa%3E%3C%2Fp%3E%0A":Die 51. ordentliche Landesdeleg
 iertenkonferenz | LDK von BÜNDNIS 90/DIE GRÜNEN Brandenburg findet stat
 t:\n\nam 2. UND 3. März 2024 ab 10.30 Uhr\n\nin der Stadthalle Cottbus\,
  Berliner Pl. 6\, 03046 Cottbus\n\nWeitere Informationen findet ihr unter
 :\n\nhttps://gruene-brandenburg.de/ldk
CLASS:PUBLIC
DTSTART;TZID=Europe/Berlin:20240302
DTEND;TZID=Europe/Berlin:20240303
DTSTAMP:20260422T223902
END:VEVENT
END:VCALENDAR