BEGIN:VCALENDAR
VERSION:2.0
PRODID:gruene-oder-spree.de
METHOD:PUBLISH
BEGIN:VTIMEZONE
TZID:Europe/Berlin
X-LIC-LOCATION:Europe/Berlin
BEGIN:DAYLIGHT
TZOFFSETFROM:+0100
TZOFFSETTO:+0200
TZNAME:CEST
DTSTART:19700329T020000
RRULE:FREQ=YEARLY;INTERVAL=1;BYDAY=-1SU;BYMONTH=3
END:DAYLIGHT
BEGIN:STANDARD
TZOFFSETFROM:+0200
TZOFFSETTO:+0100
TZNAME:CET
DTSTART:19701025T030000
RRULE:FREQ=YEARLY;INTERVAL=1;BYDAY=-1SU;BYMONTH=10
END:STANDARD
END:VTIMEZONE
BEGIN:VEVENT
UID:aa11bd945de3c7bc210fa94c4baafe29@gruene-oder-spree.de
URL;VALUE=URI:https://gruene-oder-spree.de/termine/landesdelegiertenkonfe
 renz-in-cottbus/
LOCATION:Stadthalle Cottbus, Berliner Pl. 6, 03046 Cottbus
SUMMARY:Landesdelegiertenkonferenz in Cottbus
DESCRIPTION;ALTREP="data:text/html,%0A%3Cp%3E52.%20ordentlichen%20Landesd
 elegiertenkonferenz%20%7C%20LDK%20von%20B%C3%9CNDNIS%2090%2FDIE%20GR%C3%9
 CNEN%20Brandenburg%20%3C%2Fp%3E%0A%0A%0A%0A%3Cp%3ESie%20findet%20statt%3A
 %3C%2Fp%3E%0A%0A%0A%0A%3Cp%3Eam%2030.%20November%202024%20ab%2010.30%20Uh
 r%3C%2Fp%3E%0A%0A%0A%0A%3Cp%3Ein%20der%20Stadthalle%20Cottbus%2C%20Berlin
 er%20Pl.%206%2C%2003046%20Cottbus%3C%2Fp%3E%0A%0A%0A%0A%3Cp%3EDas%20sind%
 20die%20Themen%20des%20Parteitags%3A%3C%2Fp%3E%0A%0A%0A%0A%3Cul%20class%3
 D%22wp-block-list%22%3E%0A%3Cli%3EHerausforderungen%20der%20au%C3%9Ferpar
 lamentarischen%20Opposition%20%3C%2Fli%3E%0A%0A%0A%0A%3Cli%3EVorschl%C3%A
 4ge%20f%C3%BCr%20Satzungs%C3%A4nderungen%20und%20den%20Haushalt%202025%20
 %28nach%20Beratung%20im%20Landesfinanzrat%29%20%3C%2Fli%3E%0A%0A%0A%0A%3C
 li%3ENachwahlen%20f%C3%BCr%201%20offenen%20Platz%20im%20Parteirat%20und%2
 01%20Beisitzer%2Ain%20im%20Landesschiedsgericht%20an%3C%2Fli%3E%0A%0A%0A%
 0A%3Cli%3Eweitere%20inhaltliche%20Antr%C3%A4ge%20%3C%2Fli%3E%0A%3C%2Ful%3
 E%0A%0A%0A%0A%3Cp%3E%C3%9Cber%20das%20Antragsgr%C3%BCn%C2%A0%3Ca%20href%3
 D%22https%3A%2F%2Fbrandenburg.antragsgruen.de%2Fldk2024-52%22%20target%3D
 %22_blank%22%20rel%3D%22noreferrer%20noopener%22%3Ehttps%3A%2F%2Fbrandenb
 urg.antragsgruen.de%2Fldk2024-52%3C%2Fa%3E%C2%A0k%C3%B6nnen%20Antr%C3%A4g
 e%20und%20%C3%84nderungsantr%C3%A4ge%20direkt%20eingestellt%20werden.%20J
 edes%20Parteimitglied%20kann%20sich%20mit%20dem%20Gr%C3%BCnes%20Netz-Zuga
 ng%20einloggen.%20Falls%20verlegt%2C%20kann%20das%20Passwort%20unter%20ht
 tps%3A%2F%2Fnetz.gruene.de%20zur%C3%BCckgesetzt%20oder%20die%20Logindaten
 %20per%20Mail%20an%20netz%28at%29gruene.de%20angefordert%20werden.%3C%2Fp
 %3E%0A%0A%0A%0A%3Cp%3EF%C3%BCr%20Antr%C3%A4ge%20betr%C3%A4gt%20die%20Fris
 t%204%20Wochen%20vor%20der%20LDK%2C%20also%20Samstag%2C%202.11.2024%20%28
 23.59%20Uhr%29.%20%C3%84nderungsantr%C3%A4ge%20m%C3%BCssen%20eine%20Woche
 %20vorher%2C%20also%20bis%2023.%20November%202024%20%2823.59%20Uhr%29%20e
 ingereicht%20werden.%20Jedes%20Parteimitglied%20ist%20berechtigt%20einen%
 20%C3%84nderungsantrag%20zu%20stellen.%3C%2Fp%3E%0A%0A%0A%0A%3Cp%3EAlle%2
 0Bewerber%2Ainnen%20k%C3%B6nnen%20die%20Bewerbungsvorlage%20im%20Antragsg
 r%C3%BCn%26nbsp%3B%3Ca%20href%3D%22https%3A%2F%2Fbrandenburg.antragsgruen
 .de%2Fldk2024-52%22%20target%3D%22_blank%22%20rel%3D%22noreferrer%20noope
 ner%22%3Ehttps%3A%2F%2Fbrandenburg.antragsgruen.de%2Fldk2024-52%3C%2Fa%3E
 %26nbsp%3Bnutzen%20oder%20ihre%20Bewerbung%20dort%20als%20PDF%20hochladen
 .%20Alle%20Bewerbungen%20sollten%20bis%204%20Wochen%20vor%20der%20LDK%2C%
 20also%202.%20November%20vorliegen%20%28SOLL-Frist%20laut%20Satzung%29.%2
 0Bewerbungen%20k%C3%B6nnen%20auch%20sp%C3%A4ter%20bzw.%20bis%20zur%20Aufr
 ufung%20des%20Tagesordnungspunktes%20eingebracht%20werden.%20Die%20Vorste
 llung%20ist%20nur%20in%20Pr%C3%A4senz%20vor%20Ort%20m%C3%B6glich.%20Die%2
 0Vorstellungszeit%20soll%20max.%205%20Minuten%20betragen%20und%202%20Minu
 ten%20zur%20Beantwortung%20von%20Fragen%20%28weitere%20Regelungen%20siehe
 %20LDK-Wahlordnung%29.%3C%2Fp%3E%0A":52. ordentlichen Landesdelegiertenko
 nferenz | LDK von BÜNDNIS 90/DIE GRÜNEN Brandenburg\n\nSie findet statt
 :\n\nam 30. November 2024 ab 10.30 Uhr\n\nin der Stadthalle Cottbus\, Ber
 liner Pl. 6\, 03046 Cottbus\n\nDas sind die Themen des Parteitags:\n\nHer
 ausforderungen der außerparlamentarischen Opposition\n\nVorschläge für
  Satzungsänderungen und den Haushalt 2025 (nach Beratung im Landesfinanz
 rat)\n\nNachwahlen für 1 offenen Platz im Parteirat und 1 Beisitzer*in i
 m Landesschiedsgericht an\n\nweitere inhaltliche Anträge\n\nÜber das An
 tragsgrün https://brandenburg.antragsgruen.de/ldk2024-52 können Antr
 äge und Änderungsanträge direkt eingestellt werden. Jedes Parteimitgli
 ed kann sich mit dem Grünes Netz-Zugang einloggen. Falls verlegt\, kann 
 das Passwort unter https://netz.gruene.de zurückgesetzt oder die Loginda
 ten per Mail an netz(at)gruene.de angefordert werden.\n\nFür Anträge be
 trägt die Frist 4 Wochen vor der LDK\, also Samstag\, 2.11.2024 (23.59 U
 hr). Änderungsanträge müssen eine Woche vorher\, also bis 23. November
  2024 (23.59 Uhr) eingereicht werden. Jedes Parteimitglied ist berechtigt
  einen Änderungsantrag zu stellen.\n\nAlle Bewerber*innen können die Be
 werbungsvorlage im Antragsgrün https://brandenburg.antragsgruen.de/ldk2
 024-52 nutzen oder ihre Bewerbung dort als PDF hochladen. Alle Bewerbung
 en sollten bis 4 Wochen vor der LDK\, also 2. November vorliegen (SOLL-Fr
 ist laut Satzung). Bewerbungen können auch später bzw. bis zur Aufrufun
 g des Tagesordnungspunktes eingebracht werden. Die Vorstellung ist nur in
  Präsenz vor Ort möglich. Die Vorstellungszeit soll max. 5 Minuten betr
 agen und 2 Minuten zur Beantwortung von Fragen (weitere Regelungen siehe 
 LDK-Wahlordnung).
CLASS:PUBLIC
DTSTART;TZID=Europe/Berlin:20241130T103000
DTEND;TZID=Europe/Berlin:20241130T103000
DTSTAMP:20260422T223724
END:VEVENT
END:VCALENDAR