BEGIN:VCALENDAR
VERSION:2.0
PRODID:gruene-oder-spree.de
METHOD:PUBLISH
BEGIN:VTIMEZONE
TZID:Europe/Berlin
X-LIC-LOCATION:Europe/Berlin
BEGIN:DAYLIGHT
TZOFFSETFROM:+0100
TZOFFSETTO:+0200
TZNAME:CEST
DTSTART:19700329T020000
RRULE:FREQ=YEARLY;INTERVAL=1;BYDAY=-1SU;BYMONTH=3
END:DAYLIGHT
BEGIN:STANDARD
TZOFFSETFROM:+0200
TZOFFSETTO:+0100
TZNAME:CET
DTSTART:19701025T030000
RRULE:FREQ=YEARLY;INTERVAL=1;BYDAY=-1SU;BYMONTH=10
END:STANDARD
END:VTIMEZONE
BEGIN:VEVENT
UID:c06f5aacdaa60cd962f613fd39d02673@gruene-oder-spree.de
URL;VALUE=URI:https://gruene-oder-spree.de/termine/mittwochs-miteinander-
 7/
LOCATION:Mühlenstr. 5d, 15517 Fürstenwalde
SUMMARY:Mittwochs-Miteinander
DESCRIPTION;ALTREP="data:text/html,%3Cp%3EUnser%20B%C3%BCro%20in%20F%C3%B
 Crstenwalde%20soll%20mehr%20bespielt%20werden%21%20Wir%20freuen%20uns%2C%
 20wenn%20Ihr%20Euch%20vorstellen%20k%C3%B6nnt%2C%20das%20eine%20oder%20an
 dere%20Mal%20im%20B%C3%BCro%20pr%C3%A4sent%20zu%20sein%20und%20eine%20Akt
 ivit%C3%A4t%20anzubieten%21%3Cbr%20%2F%3E%0A%3Cbr%20%2F%3E%0AWir%20wollen
 %20Veranstaltungsreihe%20mit%20einer%20Regelm%C3%A4%C3%9Figkeit%20organis
 ieren.%20Immer%20der%20letzter%20Mittwoch%20im%20Monat%20soll%20eine%20Ve
 ranstaltung%20bei%20uns%20im%20B%C3%BCro%20in%20der%20M%C3%BChlenstr.%205
 d%2C%2015517%20F%C3%BCrstenwalde%20stattfinden.%20In%20diesem%20Jahreskal
 ender%20k%C3%B6nnt%20ihr%20euch%20eintragen%20k%C3%B6nnt%2C%20wenn%20ihr%
 20eine%20Aktion%20planen%20wollt.%3Cbr%20%2F%3E%0A%3Cbr%20%2F%3E%0AIhr%20
 seid%20ganz%20frei%20bei%20der%20Gestaltung%20Eurer%20Angebote%2C%20das%2
 0kann%20vom%20Skatabend%20%C3%BCbers%20Topflappenh%C3%A4keln%20bis%20zu%2
 0gr%C3%B6%C3%9Feren%20Aktionen%20und%20Angeboten%20gehen%21%3Cbr%20%2F%3E
 %0A%3Cbr%20%2F%3E%0AJahresplan%20Mittwochs-Miteinander%3Cbr%20%2F%3E%0Aht
 tps%3A%2F%2Fwolke.netzbegruenung.de%2Fs%2FNTKptjy3LFykCqj%3Cbr%20%2F%3E%0
 A%3Cbr%20%2F%3E%0A%3Cbr%20%2F%3E%0ABei%20Fragen%20k%C3%B6nnt%20ihr%20euch
 %20an%20den%20Kreisvorstand%20wenden%3A%20vorstand%28at%29gruene-oder-spr
 ee.de%3C%2Fp%3E":Unser Büro in Fürstenwalde soll mehr bespielt werden! 
 Wir freuen uns\, wenn Ihr Euch vorstellen könnt\, das eine oder andere M
 al im Büro präsent zu sein und eine Aktivität anzubieten!\n\nWir wolle
 n Veranstaltungsreihe mit einer Regelmäßigkeit organisieren. Immer der 
 letzter Mittwoch im Monat soll eine Veranstaltung bei uns im Büro in der
  Mühlenstr. 5d\, 15517 Fürstenwalde stattfinden. In diesem Jahreskalend
 er könnt ihr euch eintragen könnt\, wenn ihr eine Aktion planen wollt.\
 n\nIhr seid ganz frei bei der Gestaltung Eurer Angebote\, das kann vom Sk
 atabend übers Topflappenhäkeln bis zu größeren Aktionen und Angeboten
  gehen!\n\nJahresplan Mittwochs-Miteinander\n\nhttps://wolke.netzbegruenu
 ng.de/s/NTKptjy3LFykCqj\n\nBei Fragen könnt ihr euch an den Kreisvorstan
 d wenden: vorstand(at)gruene-oder-spree.de
CLASS:PUBLIC
DTSTART;TZID=Europe/Berlin:20260729
DTEND;TZID=Europe/Berlin:20260730
DTSTAMP:20260422T182810
END:VEVENT
END:VCALENDAR