BEGIN:VCALENDAR
VERSION:2.0
PRODID:gruene-oder-spree.de
METHOD:PUBLISH
BEGIN:VTIMEZONE
TZID:Europe/Berlin
X-LIC-LOCATION:Europe/Berlin
BEGIN:DAYLIGHT
TZOFFSETFROM:+0100
TZOFFSETTO:+0200
TZNAME:CEST
DTSTART:19700329T020000
RRULE:FREQ=YEARLY;INTERVAL=1;BYDAY=-1SU;BYMONTH=3
END:DAYLIGHT
BEGIN:STANDARD
TZOFFSETFROM:+0200
TZOFFSETTO:+0100
TZNAME:CET
DTSTART:19701025T030000
RRULE:FREQ=YEARLY;INTERVAL=1;BYDAY=-1SU;BYMONTH=10
END:STANDARD
END:VTIMEZONE
BEGIN:VEVENT
UID:0e631b28fd4023a625ea0d8d732d7ef9@gruene-oder-spree.de
URL;VALUE=URI:https://gruene-oder-spree.de/termine/mittwochsmiteinander-l
 erne-die-bi-walderhalt-spreetal-kennen/
LOCATION:Kreioisgeschäftsstelle BÜNDNIS 90/DIE GRÜNEN Oder-Spree, Müh
 lenstr. 5d, 15517 Fürstenwalde
SUMMARY:Mittwochsmiteinander: Lerne die BI Walderhalt Spreetal kennen
DESCRIPTION;ALTREP="data:text/html,%0A%3Cp%3EAm%2028.01.%20startet%20unse
 r%20Mittwochsmiteinander.%3C%2Fp%3E%0A%0A%0A%0A%3Cp%3EJeden%20letzten%20M
 ittwoch%20im%20Monat%20eine%20Veranstaltung%20bei%20uns%20im%20B%C3%BCro%
 20in%20F%C3%BCrstenwalde%20in%20der%20M%C3%BChlenstr.%205d%20%2815517%20F
 %C3%BCrstenwalde%29.%3C%2Fp%3E%0A%0A%0A%0A%3Cp%3E28.01.%20-%20Lernt%20die
 %20B%C3%BCrgerinitiative%20Walderhalt%20Spreetal%20kennen.%3C%2Fp%3E%0A%0
 A%0A%0A%3Cp%3EDie%20B%C3%BCrgerinitiative%20setzt%20sich%20daf%C3%BCr%20e
 in%20Waldvernichtung%20zu%20verhindern.%3C%2Fp%3E%0A%0A%0A%0A%3Cp%3EMitte
 n%20in%20unserer%20Umgebung%20ist%20ein%20riesiges%2C%20intaktes%20Waldge
 biet%20von%20430%20Hektar%20bedroht%20%E2%80%93%20gr%C3%B6%C3%9Fer%20als%
 20das%20Tesla-Gel%C3%A4nde%20in%20Gr%C3%BCnheide.%3C%2Fp%3E%0A%0A%0A%0A%3
 Cp%3EF%C3%BCr%20Industrie%20und%20Gewerbe%20soll%20hier%20Natur%20weichen
 .%20Das%20bedeutet%3A%20Verlust%20von%20Lebensraum%2C%20Trinkwasser%2C%20
 Frischluft%20und%20Erholungsraum.%3C%2Fp%3E%0A%0A%0A%0A%3Cp%3EIhr%20wollt
 %20mehr%20erfahren%3F%20Dann%20kommt%20in%20die%20M%C3%BChlenstr.%205d%20
 nach%20F%C3%BCrstenwalde.%3C%2Fp%3E%0A%0A%0A%0A%3Cdiv%20class%3D%22wp-blo
 ck-buttons%20is-layout-flex%20wp-block-buttons-is-layout-flex%22%3E%0A%3C
 div%20class%3D%22wp-block-button%22%3E%3Ca%20class%3D%22wp-block-button__
 link%20wp-element-button%22%20href%3D%22https%3A%2F%2Fbi-walderhalt-spree
 tal.de%2F%22%3EZur%20Website%20der%20BI%20Walderhald%3C%2Fa%3E%3C%2Fdiv%3
 E%0A%3C%2Fdiv%3E%0A":Am 28.01. startet unser Mittwochsmiteinander.\n\nJed
 en letzten Mittwoch im Monat eine Veranstaltung bei uns im Büro in Fürs
 tenwalde in der Mühlenstr. 5d (15517 Fürstenwalde).\n\n28.01. - Lernt d
 ie Bürgerinitiative Walderhalt Spreetal kennen.\n\nDie Bürgerinitiative
  setzt sich dafür ein Waldvernichtung zu verhindern.\n\nMitten in unsere
 r Umgebung ist ein riesiges\, intaktes Waldgebiet von 430 Hektar bedroht 
 – größer als das Tesla-Gelände in Grünheide.\n\nFür Industrie und 
 Gewerbe soll hier Natur weichen. Das bedeutet: Verlust von Lebensraum\, T
 rinkwasser\, Frischluft und Erholungsraum.\n\nIhr wollt mehr erfahren? Da
 nn kommt in die Mühlenstr. 5d nach Fürstenwalde.\n\nZur Website der BI 
 Walderhald
CLASS:PUBLIC
DTSTART;TZID=Europe/Berlin:20260128T180000
DTEND;TZID=Europe/Berlin:20260128T190000
DTSTAMP:20260422T223927
END:VEVENT
END:VCALENDAR