BEGIN:VCALENDAR
VERSION:2.0
PRODID:gruene-oder-spree.de
METHOD:PUBLISH
BEGIN:VTIMEZONE
TZID:Europe/Berlin
X-LIC-LOCATION:Europe/Berlin
BEGIN:DAYLIGHT
TZOFFSETFROM:+0100
TZOFFSETTO:+0200
TZNAME:CEST
DTSTART:19700329T020000
RRULE:FREQ=YEARLY;INTERVAL=1;BYDAY=-1SU;BYMONTH=3
END:DAYLIGHT
BEGIN:STANDARD
TZOFFSETFROM:+0200
TZOFFSETTO:+0100
TZNAME:CET
DTSTART:19701025T030000
RRULE:FREQ=YEARLY;INTERVAL=1;BYDAY=-1SU;BYMONTH=10
END:STANDARD
END:VTIMEZONE
BEGIN:VEVENT
UID:af9827b2b6a2c5d23e5d532956a37fac@gruene-oder-spree.de
URL;VALUE=URI:https://gruene-oder-spree.de/termine/sommerfest-gruene-oder
 -spree/
LOCATION:Kreisgeschäftsstelle GRÜNE Oder-Spree, Mühlenstr. 5d, 15517 F
 ürstenwalde
SUMMARY:Sommerfest GRÜNE Oder-Spree
DESCRIPTION;ALTREP="data:text/html,%0A%3Cp%3ELiebe%20Freundinnen%20und%20
 Freunde%20in%20Oder-%20Spree%2C%3C%2Fp%3E%0A%0A%0A%0A%3Cp%3Eherzliche%20E
 inladung%20zu%20unserem%20diesj%C3%A4hrigen%26nbsp%3B%3Cstrong%3EGr%C3%BC
 nen%20Sommerfest%3C%2Fstrong%3E%3C%2Fp%3E%0A%0A%0A%0A%3Cp%3E%3C%2Fp%3E%0A
 %0A%0A%0A%3Cp%3ELasst%20uns%20zusammen%20sitzen%2C%20schwatzen%20-%20und%
 20feiern%21%20Bringt%20gerne%20Eure%20Familien%20oder%20Bekannte%20mit%2C
 %20aber%20vor%20allem%20Gute%20Laune%21%3C%2Fp%3E%0A%0A%0A%0A%3Cp%3E%3Cst
 rong%3EBitte%20meldet%20Euch%20%C3%BCber%26nbsp%3Bzum%20Sommerfest%20an%2
 C%20damit%20wir%20besser%20planen%20k%C3%B6nnen%21%3C%2Fstrong%3E%3C%2Fp%
 3E%0A%0A%0A%0A%3Cdiv%20class%3D%22wp-block-buttons%20is-layout-flex%20wp-
 block-buttons-is-layout-flex%22%3E%0A%3Cdiv%20class%3D%22wp-block-button%
 22%3E%3Ca%20class%3D%22wp-block-button__link%20wp-element-button%22%20hre
 f%3D%22https%3A%2F%2Fgruene-oder-spree.de%2Fanmeldung-sommerfest%2F%22%3E
 Hier%20anmelden%3C%2Fa%3E%3C%2Fdiv%3E%0A%3C%2Fdiv%3E%0A%0A%0A%0A%3Cp%3EHe
 rzliche%20Gr%C3%BC%C3%9Fe%20von%20Eurem%20Vorstandsteam%20-%3C%2Fp%3E%0A%
 0A%0A%0A%3Cp%3EClaudia%2C%20Erdmute%2C%20Josephine%2C%20Mariel%2C%20Pan%2
 C%20Peter%2C%20Ronny%3C%2Fp%3E%0A%0A%0A%0A%3Cp%3E-%20und%20nat%C3%BCrlich
 %20von%20unserem%20Gesch%C3%A4ftsf%C3%BChrer%20Julian%3C%2Fp%3E%0A":Liebe
  Freundinnen und Freunde in Oder- Spree\,\n\nherzliche Einladung zu unser
 em diesjährigen Grünen Sommerfest\n\nLasst uns zusammen sitzen\, schwa
 tzen - und feiern! Bringt gerne Eure Familien oder Bekannte mit\, aber vo
 r allem Gute Laune!\n\nBitte meldet Euch über zum Sommerfest an\, damit
  wir besser planen können!\n\nHier anmelden\n\nHerzliche Grüße von Eur
 em Vorstandsteam -\n\nClaudia\, Erdmute\, Josephine\, Mariel\, Pan\, Pete
 r\, Ronny\n\n- und natürlich von unserem Geschäftsführer Julian
CLASS:PUBLIC
DTSTART;TZID=Europe/Berlin:20250719T160000
DTEND;TZID=Europe/Berlin:20250719T210000
DTSTAMP:20260422T222830
END:VEVENT
END:VCALENDAR