BEGIN:VCALENDAR
VERSION:2.0
PRODID:gruene-oder-spree.de
METHOD:PUBLISH
BEGIN:VTIMEZONE
TZID:Europe/Berlin
X-LIC-LOCATION:Europe/Berlin
BEGIN:DAYLIGHT
TZOFFSETFROM:+0100
TZOFFSETTO:+0200
TZNAME:CEST
DTSTART:19700329T020000
RRULE:FREQ=YEARLY;INTERVAL=1;BYDAY=-1SU;BYMONTH=3
END:DAYLIGHT
BEGIN:STANDARD
TZOFFSETFROM:+0200
TZOFFSETTO:+0100
TZNAME:CET
DTSTART:19701025T030000
RRULE:FREQ=YEARLY;INTERVAL=1;BYDAY=-1SU;BYMONTH=10
END:STANDARD
END:VTIMEZONE
BEGIN:VEVENT
UID:d3c2b6c189cfaed01c9c816b9f4c8a83@gruene-oder-spree.de
URL;VALUE=URI:https://gruene-oder-spree.de/termine/sommerfest-mit-kreismi
 tgliederversammlung/
LOCATION:Fürstenwalde
SUMMARY:Sommerfest mit Kreismitgliederversammlung
DESCRIPTION;ALTREP="data:text/html,%3Cp%3ESommerfest%2C%20%3Cbr%20%2F%3E%
 0AAntragsvorbereitung%2C%20Themenfindung%20f%C3%BCr%20die%20Landesdelegie
 rtenkonferenz%20der%20GR%C3%9CNEN%20Brandenburg%20am%2021.11.2026%3C%2Fp%
 3E":Sommerfest\,\n\nAntragsvorbereitung\, Themenfindung für die Landesde
 legiertenkonferenz der GRÜNEN Brandenburg am 21.11.2026
CLASS:PUBLIC
DTSTART;TZID=Europe/Berlin:20260829T140000
DTEND;TZID=Europe/Berlin:20260829T200000
DTSTAMP:20260422T183236
END:VEVENT
END:VCALENDAR