BEGIN:VCALENDAR
VERSION:2.0
PRODID:gruene-oder-spree.de
METHOD:PUBLISH
BEGIN:VTIMEZONE
TZID:Europe/Berlin
X-LIC-LOCATION:Europe/Berlin
BEGIN:DAYLIGHT
TZOFFSETFROM:+0100
TZOFFSETTO:+0200
TZNAME:CEST
DTSTART:19700329T020000
RRULE:FREQ=YEARLY;INTERVAL=1;BYDAY=-1SU;BYMONTH=3
END:DAYLIGHT
BEGIN:STANDARD
TZOFFSETFROM:+0200
TZOFFSETTO:+0100
TZNAME:CET
DTSTART:19701025T030000
RRULE:FREQ=YEARLY;INTERVAL=1;BYDAY=-1SU;BYMONTH=10
END:STANDARD
END:VTIMEZONE
BEGIN:VEVENT
UID:46461b3591da6f8800c2a4534fa539a5@gruene-oder-spree.de
URL;VALUE=URI:https://gruene-oder-spree.de/termine/treffen-des-vernetzung
 sgremiums-oder-spree/
LOCATION:Fürstenwalde und online
SUMMARY:Treffen des Vernetzungsgremiums Oder-Spree
DESCRIPTION;ALTREP="data:text/html,%3Cp%3EVernetzung%20des%20Kreisvorstan
 ds%20mit%20den%20Orts-%20und%20Regionvorst%C3%A4nden%3C%2Fp%3E":Vernetzun
 g des Kreisvorstands mit den Orts- und Regionvorständen
CLASS:PUBLIC
DTSTART;TZID=Europe/Berlin:20260602T180000
DTEND;TZID=Europe/Berlin:20260602T200000
DTSTAMP:20260422T182811
END:VEVENT
END:VCALENDAR