BEGIN:VCALENDAR
VERSION:2.0
PRODID:gruene-oder-spree.de
METHOD:PUBLISH
BEGIN:VTIMEZONE
TZID:Europe/Berlin
X-LIC-LOCATION:Europe/Berlin
BEGIN:DAYLIGHT
TZOFFSETFROM:+0100
TZOFFSETTO:+0200
TZNAME:CEST
DTSTART:19700329T020000
RRULE:FREQ=YEARLY;INTERVAL=1;BYDAY=-1SU;BYMONTH=3
END:DAYLIGHT
BEGIN:STANDARD
TZOFFSETFROM:+0200
TZOFFSETTO:+0100
TZNAME:CET
DTSTART:19701025T030000
RRULE:FREQ=YEARLY;INTERVAL=1;BYDAY=-1SU;BYMONTH=10
END:STANDARD
END:VTIMEZONE
BEGIN:VEVENT
UID:c3e9c267c0083372ae7b4d2841eca362@gruene-oder-spree.de
URL;VALUE=URI:https://gruene-oder-spree.de/termine/woche-zum-world-clean-
 up-day-in-eisenhuettenstadt/
LOCATION:Eisenhüttenstadt
SUMMARY:Woche zum World-Clean-Up-Day in Eisenhüttenstadt
DESCRIPTION;ALTREP="data:text/html,%3Cp%3ERegionalverband%20Eisenh%C3%BCt
 tenstadt%20begleitet%20st%C3%A4dtische%20Woche%20zum%20World-Clean-Up-Day
 %3C%2Fp%3E":Regionalverband Eisenhüttenstadt begleitet städtische Woche
  zum World-Clean-Up-Day
CLASS:PUBLIC
DTSTART;TZID=Europe/Berlin:20260914
DTEND;TZID=Europe/Berlin:20260921
DTSTAMP:20260422T185108
END:VEVENT
END:VCALENDAR