BEGIN:VCALENDAR
VERSION:2.0
PRODID:gruene-oder-spree.de
METHOD:PUBLISH
BEGIN:VTIMEZONE
TZID:Europe/Berlin
X-LIC-LOCATION:Europe/Berlin
BEGIN:DAYLIGHT
TZOFFSETFROM:+0100
TZOFFSETTO:+0200
TZNAME:CEST
DTSTART:19700329T020000
RRULE:FREQ=YEARLY;INTERVAL=1;BYDAY=-1SU;BYMONTH=3
END:DAYLIGHT
BEGIN:STANDARD
TZOFFSETFROM:+0200
TZOFFSETTO:+0100
TZNAME:CET
DTSTART:19701025T030000
RRULE:FREQ=YEARLY;INTERVAL=1;BYDAY=-1SU;BYMONTH=10
END:STANDARD
END:VTIMEZONE
BEGIN:VEVENT
UID:b1aa6a4832b00db73e0608ee99fc3526@gruene-oder-spree.de
URL;VALUE=URI:https://gruene-oder-spree.de/termine/zukunftskongress-diver
 sitaetsrat/
LOCATION:
SUMMARY:Zukunftskongress IM/PULS
DESCRIPTION;ALTREP="data:text/html,%3Cp%3ESehr%20geehrte%20Damen%20und%20
 Herren%2C%20liebe%20Freundinnen%20und%20Freunde%2C%3Cbr%20%2F%3E%0A%3Cbr%
 20%2F%3E%0Awer%20Erneuerung%20organisieren%20will%2C%20muss%20selbst%20be
 reit%20sein%2C%20neue%20Wege%20zu%20gehen.%3Cbr%20%2F%3E%0A%3Cbr%20%2F%3E
 %0AMit%20dem%20%22IM%2FPULS%20%E2%80%93%20Forum%20f%C3%BCr%20Zukunft%22%2
 0wollen%20wir%20deshalb%20bewusst%20einladen%20zum%20Weiterdenken%2C%20zu
 m%20Andersdenken%3A%20Zwei%20Tage%20des%20Austauschs%2C%20der%20Debatte%2
 0und%20der%20gemeinsamen%20Arbeit%20in%20neuen%2C%20inspirierenden%20Form
 aten.%3Cbr%20%2F%3E%0A%3Cbr%20%2F%3E%0AWANN%3F%3Cbr%20%2F%3E%0AFreitag%2C
 %2029.05.2026%20von%20ca.%2018.00%20bis%2021.00%20Uhr%3Cbr%20%2F%3E%0ASam
 stag%2C%2030.05.2026%20von%20ca.%209.00%20bis%2020.00%20Uhr%3Cbr%20%2F%3E
 %0A%3Cbr%20%2F%3E%0AWO%3F%3Cbr%20%2F%3E%0AOrt%3A%20Smartvillage%20Berlin%
 2C%20Karl-Marx-Stra%C3%9Fe%20101%2C%2012043%20Berlin%3Cbr%20%2F%3E%0A%3Cb
 r%20%2F%3E%0AWAS%3F%3Cbr%20%2F%3E%0A%C3%9Cber%20zwei%20Tage%20kommen%20ru
 nd%201.000%20Teilnehmende%20auf%20knapp%204.000m%C2%B2%20zusammen.%20In%2
 09%20Sessionr%C3%A4umen%20diskutieren%20wir%20in%20Ted%20Talks%2C%20Works
 hops%20und%20Hot%20Takes%2C%20Werkst%C3%A4tten%20und%20Diskussionsrunden%
 20%C3%BCber%20neue%20Ideen%2C%20wie%20wir%20gemeinsam%20Politik%20machen%
 20und%20Gesellschaft%20gestalten%20wollen.%3Cbr%20%2F%3E%0A%3Cbr%20%2F%3E
 %0AEingeladen%20sind%20langj%C3%A4hrige%20und%20neue%20Parteimitglieder%2
 C%20G%C3%A4ste%20aus%20aller%20Welt%2C%20unsere%20europ%C3%A4ischen%20Par
 tner%2Ainnen%20sowie%20Kritikerinnen%20und%20Kritiker.%3Cbr%20%2F%3E%0A%3
 Cbr%20%2F%3E%0AIM%2FPULS%20hei%C3%9Ft%20auch%3A%20Raum%20f%C3%BCr%20Vielf
 alt.%20Der%20Diversit%C3%A4tsrat%20tagt%20auf%20dem%20IM%2FPULS-Forum%20u
 nd%20stellt%20die%20Frage%3A%20Wie%20machen%20wir%20Politik%20f%C3%BCr%20
 die%20vielf%C3%A4ltige%20Realit%C3%A4t%20unserer%20Gesellschaft%3F%20Unte
 rschiedliche%20Perspektiven%20und%20Erfahrungen%20bereichern%20das%20gesa
 mte%20Programm.%3Cbr%20%2F%3E%0A%3Cbr%20%2F%3E%0ASave%20the%20Date%20und%
 20stay%20tuned%3A%20Die%20offizielle%20Einladung%20sowie%20weitere%20Info
 rmationen%20zu%20Anmeldung%2C%20Programm%20und%20Beteiligungsm%C3%B6glich
 keiten%20senden%20wir%20zeitnah.%3Cbr%20%2F%3E%0A%3Cbr%20%2F%3E%0AEurer%2
 0Bundesvorstand%3Cbr%20%2F%3E%0Avon%20B%C3%BCndnis90%2FDie%20Gr%C3%BCnen%
 3C%2Fp%3E":Sehr geehrte Damen und Herren\, liebe Freundinnen und Freunde\
 ,\n\nwer Erneuerung organisieren will\, muss selbst bereit sein\, neue We
 ge zu gehen.\n\nMit dem "IM/PULS – Forum für Zukunft" wollen wir desha
 lb bewusst einladen zum Weiterdenken\, zum Andersdenken: Zwei Tage des Au
 stauschs\, der Debatte und der gemeinsamen Arbeit in neuen\, inspirierend
 en Formaten.\n\nWANN?\n\nFreitag\, 29.05.2026 von ca. 18.00 bis 21.00 Uhr
 \n\nSamstag\, 30.05.2026 von ca. 9.00 bis 20.00 Uhr\n\nWO?\n\nOrt: Smartv
 illage Berlin\, Karl-Marx-Straße 101\, 12043 Berlin\n\nWAS?\n\nÜber zwe
 i Tage kommen rund 1.000 Teilnehmende auf knapp 4.000m² zusammen. In 9 S
 essionräumen diskutieren wir in Ted Talks\, Workshops und Hot Takes\, We
 rkstätten und Diskussionsrunden über neue Ideen\, wie wir gemeinsam Pol
 itik machen und Gesellschaft gestalten wollen.\n\nEingeladen sind langjä
 hrige und neue Parteimitglieder\, Gäste aus aller Welt\, unsere europäi
 schen Partner*innen sowie Kritikerinnen und Kritiker.\n\nIM/PULS heißt a
 uch: Raum für Vielfalt. Der Diversitätsrat tagt auf dem IM/PULS-Forum u
 nd stellt die Frage: Wie machen wir Politik für die vielfältige Realit
 ät unserer Gesellschaft? Unterschiedliche Perspektiven und Erfahrungen b
 ereichern das gesamte Programm.\n\nSave the Date und stay tuned: Die offi
 zielle Einladung sowie weitere Informationen zu Anmeldung\, Programm und 
 Beteiligungsmöglichkeiten senden wir zeitnah.\n\nEurer Bundesvorstand\n\
 nvon Bündnis90/Die Grünen
CLASS:PUBLIC
DTSTART;TZID=Europe/Berlin:20260529
DTEND;TZID=Europe/Berlin:20260531
DTSTAMP:20260422T185014
END:VEVENT
END:VCALENDAR